BEGIN:VCALENDAR
VERSION:2.0
PRODID:-//Monterey COA - ECPv6.15.20//NONSGML v1.0//EN
CALSCALE:GREGORIAN
METHOD:PUBLISH
X-ORIGINAL-URL:https://montereycoa.org
X-WR-CALDESC:Events for Monterey COA
REFRESH-INTERVAL;VALUE=DURATION:PT1H
X-Robots-Tag:noindex
X-PUBLISHED-TTL:PT1H
BEGIN:VTIMEZONE
TZID:America/New_York
BEGIN:DAYLIGHT
TZOFFSETFROM:-0500
TZOFFSETTO:-0400
TZNAME:EDT
DTSTART:20270314T070000
END:DAYLIGHT
BEGIN:STANDARD
TZOFFSETFROM:-0400
TZOFFSETTO:-0500
TZNAME:EST
DTSTART:20271107T060000
END:STANDARD
BEGIN:DAYLIGHT
TZOFFSETFROM:-0500
TZOFFSETTO:-0400
TZNAME:EDT
DTSTART:20280312T070000
END:DAYLIGHT
BEGIN:STANDARD
TZOFFSETFROM:-0400
TZOFFSETTO:-0500
TZNAME:EST
DTSTART:20281105T060000
END:STANDARD
BEGIN:DAYLIGHT
TZOFFSETFROM:-0500
TZOFFSETTO:-0400
TZNAME:EDT
DTSTART:20290311T070000
END:DAYLIGHT
BEGIN:STANDARD
TZOFFSETFROM:-0400
TZOFFSETTO:-0500
TZNAME:EST
DTSTART:20291104T060000
END:STANDARD
END:VTIMEZONE
BEGIN:VEVENT
DTSTART;TZID=America/New_York:20280831T100000
DTEND;TZID=America/New_York:20280831T130000
DTSTAMP:20260422T230623
CREATED:20251219T170341Z
LAST-MODIFIED:20251219T170341Z
UID:10001671-1851328800-1851339600@montereycoa.org
SUMMARY:Open Art Studio With Beth Hoffman
DESCRIPTION:Last 2 Thursdays each month 11:00 AM – 1:00 pm Come and paint or draw in the company of other artists. A still life provides inspiration or draw from your own imagination. Anything goes! Please bring your own supplies. Coffee and a snack are provided. Please text or call Beth Hoffman to RSVP or if you have any questions: 201.463.9543
URL:https://montereycoa.org/event/open-art-studio-with-beth-hoffman-2/2028-08-31/
LOCATION:MA
ATTACH;FMTTYPE=image/jpeg:https://montereycoa.org/wp-content/uploads/2025/12/openartstudio-e1766162275793.jpg
END:VEVENT
BEGIN:VEVENT
DTSTART;TZID=America/New_York:20280831T140000
DTEND;TZID=America/New_York:20280831T160000
DTSTAMP:20260422T230624
CREATED:20251202T165119Z
LAST-MODIFIED:20251205T173218Z
UID:10001189-1851343200-1851350400@montereycoa.org
SUMMARY:Thursday Mahjong
DESCRIPTION:
URL:https://montereycoa.org/event/561/2028-08-31/
LOCATION:Monterey Community Center\, 468 Main Rd\, Monterey\, MA\, 01245\, United States
ATTACH;FMTTYPE=image/png:https://montereycoa.org/wp-content/uploads/2025/11/American-MahJong-Maureen-Banner.png
END:VEVENT
BEGIN:VEVENT
DTSTART;TZID=America/New_York:20280901T130000
DTEND;TZID=America/New_York:20280901T160000
DTSTAMP:20260422T230624
CREATED:20251202T162152Z
LAST-MODIFIED:20251217T211339Z
UID:10000406-1851426000-1851436800@montereycoa.org
SUMMARY:Friday Bridge
DESCRIPTION:
URL:https://montereycoa.org/event/bridge-at-the-monterey-community-center-2/2028-09-01/
LOCATION:Monterey Community Center\, 468 Main Rd\, Monterey\, MA\, 01245\, United States
ATTACH;FMTTYPE=image/jpeg:https://montereycoa.org/wp-content/uploads/2025/12/IMG_0164-e1766006012993.jpg
END:VEVENT
BEGIN:VEVENT
DTSTART;TZID=America/New_York:20280905T130000
DTEND;TZID=America/New_York:20280905T160000
DTSTAMP:20260422T230624
CREATED:20251202T161305Z
LAST-MODIFIED:20251205T172638Z
UID:10000146-1851771600-1851782400@montereycoa.org
SUMMARY:Tuesday Bridge
DESCRIPTION:
URL:https://montereycoa.org/event/bridge-at-the-monterey-community-center/2028-09-05/
LOCATION:Monterey Community Center\, 468 Main Rd\, Monterey\, MA\, 01245\, United States
ATTACH;FMTTYPE=image/webp:https://montereycoa.org/wp-content/uploads/2025/11/bridge-cards-600px.webp
END:VEVENT
BEGIN:VEVENT
DTSTART;TZID=America/New_York:20280905T190000
DTEND;TZID=America/New_York:20280905T210000
DTSTAMP:20260422T230624
CREATED:20251202T164719Z
LAST-MODIFIED:20251217T211048Z
UID:10000668-1851793200-1851800400@montereycoa.org
SUMMARY:Tuesday Mahjong
DESCRIPTION:
URL:https://montereycoa.org/event/mahjong/2028-09-05/
LOCATION:Monterey Community Center\, 468 Main Rd\, Monterey\, MA\, 01245\, United States
ATTACH;FMTTYPE=image/jpeg:https://montereycoa.org/wp-content/uploads/2025/12/IMG_5280-e1766005829765.jpg
END:VEVENT
BEGIN:VEVENT
DTSTART;TZID=America/New_York:20280906T100000
DTEND;TZID=America/New_York:20280906T110000
DTSTAMP:20260422T230624
CREATED:20251219T165837Z
LAST-MODIFIED:20251219T165837Z
UID:10001459-1851847200-1851850800@montereycoa.org
SUMMARY:Tai Chi with David Crowe
DESCRIPTION:Wednesdays\, 10:00 AM – 11:00 AM at the Community Center. \nAccepting new attendees with Tai Chi experience. The cost $8 per class or $30 per month
URL:https://montereycoa.org/event/tai-chi-with-david-crowe/2028-09-06/
LOCATION:Monterey Community Center\, 468 Main Rd\, Monterey\, MA\, 01245\, United States
ATTACH;FMTTYPE=image/jpeg:https://montereycoa.org/wp-content/uploads/2025/12/tai-chi-e1766162640974.jpg
END:VEVENT
BEGIN:VEVENT
DTSTART;TZID=America/New_York:20280907T090000
DTEND;TZID=America/New_York:20280907T100000
DTSTAMP:20260422T230624
CREATED:20251202T165314Z
LAST-MODIFIED:20251231T142627Z
UID:10000930-1851930000-1851933600@montereycoa.org
SUMMARY:Yoga with Ben Corbett
DESCRIPTION:
URL:https://montereycoa.org/event/yoga-with-ben-corbett/2028-09-07/
LOCATION:Monterey Community Center\, 468 Main Rd\, Monterey\, MA\, 01245\, United States
ATTACH;FMTTYPE=image/jpeg:https://montereycoa.org/wp-content/uploads/2025/12/IMG_0918-1-e1767191052124.jpg
END:VEVENT
BEGIN:VEVENT
DTSTART;TZID=America/New_York:20280907T140000
DTEND;TZID=America/New_York:20280907T150000
DTSTAMP:20260422T230624
CREATED:20260406T202506Z
LAST-MODIFIED:20260406T202506Z
UID:10001929-1851948000-1851951600@montereycoa.org
SUMMARY:Parkinson's Support Group
DESCRIPTION:Monterey Library  Call Virgil Stucker 828-388-4673 if interested in attending or the Monterey COA office 413-528-1443 ext 112
URL:https://montereycoa.org/event/parkinsons-support-group-2/2028-09-07/
LOCATION:Monterey Library\, 452 Main Rd\, Monterey\, MA\, 01245\, United States
ATTACH;FMTTYPE=image/webp:https://montereycoa.org/wp-content/uploads/2026/01/montereylibrary-e1767878473791.webp
END:VEVENT
BEGIN:VEVENT
DTSTART;TZID=America/New_York:20280907T140000
DTEND;TZID=America/New_York:20280907T160000
DTSTAMP:20260422T230624
CREATED:20251202T165119Z
LAST-MODIFIED:20251205T173218Z
UID:10001190-1851948000-1851955200@montereycoa.org
SUMMARY:Thursday Mahjong
DESCRIPTION:
URL:https://montereycoa.org/event/561/2028-09-07/
LOCATION:Monterey Community Center\, 468 Main Rd\, Monterey\, MA\, 01245\, United States
ATTACH;FMTTYPE=image/png:https://montereycoa.org/wp-content/uploads/2025/11/American-MahJong-Maureen-Banner.png
END:VEVENT
BEGIN:VEVENT
DTSTART;TZID=America/New_York:20280908T130000
DTEND;TZID=America/New_York:20280908T160000
DTSTAMP:20260422T230624
CREATED:20251202T162152Z
LAST-MODIFIED:20251217T211339Z
UID:10000407-1852030800-1852041600@montereycoa.org
SUMMARY:Friday Bridge
DESCRIPTION:
URL:https://montereycoa.org/event/bridge-at-the-monterey-community-center-2/2028-09-08/
LOCATION:Monterey Community Center\, 468 Main Rd\, Monterey\, MA\, 01245\, United States
ATTACH;FMTTYPE=image/jpeg:https://montereycoa.org/wp-content/uploads/2025/12/IMG_0164-e1766006012993.jpg
END:VEVENT
BEGIN:VEVENT
DTSTART;TZID=America/New_York:20280912T130000
DTEND;TZID=America/New_York:20280912T160000
DTSTAMP:20260422T230624
CREATED:20251202T161305Z
LAST-MODIFIED:20251205T172638Z
UID:10000147-1852376400-1852387200@montereycoa.org
SUMMARY:Tuesday Bridge
DESCRIPTION:
URL:https://montereycoa.org/event/bridge-at-the-monterey-community-center/2028-09-12/
LOCATION:Monterey Community Center\, 468 Main Rd\, Monterey\, MA\, 01245\, United States
ATTACH;FMTTYPE=image/webp:https://montereycoa.org/wp-content/uploads/2025/11/bridge-cards-600px.webp
END:VEVENT
BEGIN:VEVENT
DTSTART;TZID=America/New_York:20280912T190000
DTEND;TZID=America/New_York:20280912T210000
DTSTAMP:20260422T230624
CREATED:20251202T164719Z
LAST-MODIFIED:20251217T211048Z
UID:10000669-1852398000-1852405200@montereycoa.org
SUMMARY:Tuesday Mahjong
DESCRIPTION:
URL:https://montereycoa.org/event/mahjong/2028-09-12/
LOCATION:Monterey Community Center\, 468 Main Rd\, Monterey\, MA\, 01245\, United States
ATTACH;FMTTYPE=image/jpeg:https://montereycoa.org/wp-content/uploads/2025/12/IMG_5280-e1766005829765.jpg
END:VEVENT
BEGIN:VEVENT
DTSTART;TZID=America/New_York:20280913T100000
DTEND;TZID=America/New_York:20280913T110000
DTSTAMP:20260422T230624
CREATED:20251219T165837Z
LAST-MODIFIED:20251219T165837Z
UID:10001460-1852452000-1852455600@montereycoa.org
SUMMARY:Tai Chi with David Crowe
DESCRIPTION:Wednesdays\, 10:00 AM – 11:00 AM at the Community Center. \nAccepting new attendees with Tai Chi experience. The cost $8 per class or $30 per month
URL:https://montereycoa.org/event/tai-chi-with-david-crowe/2028-09-13/
LOCATION:Monterey Community Center\, 468 Main Rd\, Monterey\, MA\, 01245\, United States
ATTACH;FMTTYPE=image/jpeg:https://montereycoa.org/wp-content/uploads/2025/12/tai-chi-e1766162640974.jpg
END:VEVENT
BEGIN:VEVENT
DTSTART;TZID=America/New_York:20280914T090000
DTEND;TZID=America/New_York:20280914T100000
DTSTAMP:20260422T230624
CREATED:20251202T165314Z
LAST-MODIFIED:20251231T142627Z
UID:10000931-1852534800-1852538400@montereycoa.org
SUMMARY:Yoga with Ben Corbett
DESCRIPTION:
URL:https://montereycoa.org/event/yoga-with-ben-corbett/2028-09-14/
LOCATION:Monterey Community Center\, 468 Main Rd\, Monterey\, MA\, 01245\, United States
ATTACH;FMTTYPE=image/jpeg:https://montereycoa.org/wp-content/uploads/2025/12/IMG_0918-1-e1767191052124.jpg
END:VEVENT
BEGIN:VEVENT
DTSTART;TZID=America/New_York:20280914T140000
DTEND;TZID=America/New_York:20280914T160000
DTSTAMP:20260422T230624
CREATED:20251202T165119Z
LAST-MODIFIED:20251205T173218Z
UID:10001191-1852552800-1852560000@montereycoa.org
SUMMARY:Thursday Mahjong
DESCRIPTION:
URL:https://montereycoa.org/event/561/2028-09-14/
LOCATION:Monterey Community Center\, 468 Main Rd\, Monterey\, MA\, 01245\, United States
ATTACH;FMTTYPE=image/png:https://montereycoa.org/wp-content/uploads/2025/11/American-MahJong-Maureen-Banner.png
END:VEVENT
BEGIN:VEVENT
DTSTART;TZID=America/New_York:20280915T130000
DTEND;TZID=America/New_York:20280915T160000
DTSTAMP:20260422T230624
CREATED:20251202T162152Z
LAST-MODIFIED:20251217T211339Z
UID:10000408-1852635600-1852646400@montereycoa.org
SUMMARY:Friday Bridge
DESCRIPTION:
URL:https://montereycoa.org/event/bridge-at-the-monterey-community-center-2/2028-09-15/
LOCATION:Monterey Community Center\, 468 Main Rd\, Monterey\, MA\, 01245\, United States
ATTACH;FMTTYPE=image/jpeg:https://montereycoa.org/wp-content/uploads/2025/12/IMG_0164-e1766006012993.jpg
END:VEVENT
BEGIN:VEVENT
DTSTART;TZID=America/New_York:20280919T130000
DTEND;TZID=America/New_York:20280919T160000
DTSTAMP:20260422T230624
CREATED:20251202T161305Z
LAST-MODIFIED:20251205T172638Z
UID:10000148-1852981200-1852992000@montereycoa.org
SUMMARY:Tuesday Bridge
DESCRIPTION:
URL:https://montereycoa.org/event/bridge-at-the-monterey-community-center/2028-09-19/
LOCATION:Monterey Community Center\, 468 Main Rd\, Monterey\, MA\, 01245\, United States
ATTACH;FMTTYPE=image/webp:https://montereycoa.org/wp-content/uploads/2025/11/bridge-cards-600px.webp
END:VEVENT
BEGIN:VEVENT
DTSTART;TZID=America/New_York:20280919T190000
DTEND;TZID=America/New_York:20280919T210000
DTSTAMP:20260422T230624
CREATED:20251202T164719Z
LAST-MODIFIED:20251217T211048Z
UID:10000670-1853002800-1853010000@montereycoa.org
SUMMARY:Tuesday Mahjong
DESCRIPTION:
URL:https://montereycoa.org/event/mahjong/2028-09-19/
LOCATION:Monterey Community Center\, 468 Main Rd\, Monterey\, MA\, 01245\, United States
ATTACH;FMTTYPE=image/jpeg:https://montereycoa.org/wp-content/uploads/2025/12/IMG_5280-e1766005829765.jpg
END:VEVENT
BEGIN:VEVENT
DTSTART;TZID=America/New_York:20280920T100000
DTEND;TZID=America/New_York:20280920T110000
DTSTAMP:20260422T230624
CREATED:20251219T165837Z
LAST-MODIFIED:20251219T165837Z
UID:10001461-1853056800-1853060400@montereycoa.org
SUMMARY:Tai Chi with David Crowe
DESCRIPTION:Wednesdays\, 10:00 AM – 11:00 AM at the Community Center. \nAccepting new attendees with Tai Chi experience. The cost $8 per class or $30 per month
URL:https://montereycoa.org/event/tai-chi-with-david-crowe/2028-09-20/
LOCATION:Monterey Community Center\, 468 Main Rd\, Monterey\, MA\, 01245\, United States
ATTACH;FMTTYPE=image/jpeg:https://montereycoa.org/wp-content/uploads/2025/12/tai-chi-e1766162640974.jpg
END:VEVENT
BEGIN:VEVENT
DTSTART;TZID=America/New_York:20280921T090000
DTEND;TZID=America/New_York:20280921T100000
DTSTAMP:20260422T230624
CREATED:20251202T165314Z
LAST-MODIFIED:20251231T142627Z
UID:10000932-1853139600-1853143200@montereycoa.org
SUMMARY:Yoga with Ben Corbett
DESCRIPTION:
URL:https://montereycoa.org/event/yoga-with-ben-corbett/2028-09-21/
LOCATION:Monterey Community Center\, 468 Main Rd\, Monterey\, MA\, 01245\, United States
ATTACH;FMTTYPE=image/jpeg:https://montereycoa.org/wp-content/uploads/2025/12/IMG_0918-1-e1767191052124.jpg
END:VEVENT
BEGIN:VEVENT
DTSTART;TZID=America/New_York:20280921T110000
DTEND;TZID=America/New_York:20280921T130000
DTSTAMP:20260422T230624
CREATED:20260114T133153Z
LAST-MODIFIED:20260114T133153Z
UID:10001862-1853146800-1853154000@montereycoa.org
SUMMARY:Open Art Studio With Beth Hoffman
DESCRIPTION:Last 2 Thursdays each month 11:00 AM – 1:00 pm Come and paint or draw in the company of other artists. A still life provides inspiration or draw from your own imagination. Anything goes! Please bring your own supplies. Coffee and a snack are provided. Please text or call Beth Hoffman to RSVP or if you have any questions: 201.463.9543
URL:https://montereycoa.org/event/open-art-studio-with-beth-hoffman-4/2028-09-21/
LOCATION:MA
ATTACH;FMTTYPE=image/jpeg:https://montereycoa.org/wp-content/uploads/2025/12/openartstudio-e1766162275793.jpg
END:VEVENT
BEGIN:VEVENT
DTSTART;TZID=America/New_York:20280921T140000
DTEND;TZID=America/New_York:20280921T160000
DTSTAMP:20260422T230624
CREATED:20251202T165119Z
LAST-MODIFIED:20251205T173218Z
UID:10001192-1853157600-1853164800@montereycoa.org
SUMMARY:Thursday Mahjong
DESCRIPTION:
URL:https://montereycoa.org/event/561/2028-09-21/
LOCATION:Monterey Community Center\, 468 Main Rd\, Monterey\, MA\, 01245\, United States
ATTACH;FMTTYPE=image/png:https://montereycoa.org/wp-content/uploads/2025/11/American-MahJong-Maureen-Banner.png
END:VEVENT
BEGIN:VEVENT
DTSTART;TZID=America/New_York:20280922T130000
DTEND;TZID=America/New_York:20280922T160000
DTSTAMP:20260422T230624
CREATED:20251202T162152Z
LAST-MODIFIED:20251217T211339Z
UID:10000409-1853240400-1853251200@montereycoa.org
SUMMARY:Friday Bridge
DESCRIPTION:
URL:https://montereycoa.org/event/bridge-at-the-monterey-community-center-2/2028-09-22/
LOCATION:Monterey Community Center\, 468 Main Rd\, Monterey\, MA\, 01245\, United States
ATTACH;FMTTYPE=image/jpeg:https://montereycoa.org/wp-content/uploads/2025/12/IMG_0164-e1766006012993.jpg
END:VEVENT
BEGIN:VEVENT
DTSTART;TZID=America/New_York:20280926T130000
DTEND;TZID=America/New_York:20280926T160000
DTSTAMP:20260422T230624
CREATED:20251202T161305Z
LAST-MODIFIED:20251205T172638Z
UID:10000149-1853586000-1853596800@montereycoa.org
SUMMARY:Tuesday Bridge
DESCRIPTION:
URL:https://montereycoa.org/event/bridge-at-the-monterey-community-center/2028-09-26/
LOCATION:Monterey Community Center\, 468 Main Rd\, Monterey\, MA\, 01245\, United States
ATTACH;FMTTYPE=image/webp:https://montereycoa.org/wp-content/uploads/2025/11/bridge-cards-600px.webp
END:VEVENT
BEGIN:VEVENT
DTSTART;TZID=America/New_York:20280926T190000
DTEND;TZID=America/New_York:20280926T210000
DTSTAMP:20260422T230624
CREATED:20251202T164719Z
LAST-MODIFIED:20251217T211048Z
UID:10000671-1853607600-1853614800@montereycoa.org
SUMMARY:Tuesday Mahjong
DESCRIPTION:
URL:https://montereycoa.org/event/mahjong/2028-09-26/
LOCATION:Monterey Community Center\, 468 Main Rd\, Monterey\, MA\, 01245\, United States
ATTACH;FMTTYPE=image/jpeg:https://montereycoa.org/wp-content/uploads/2025/12/IMG_5280-e1766005829765.jpg
END:VEVENT
BEGIN:VEVENT
DTSTART;TZID=America/New_York:20280927T100000
DTEND;TZID=America/New_York:20280927T110000
DTSTAMP:20260422T230624
CREATED:20251219T165837Z
LAST-MODIFIED:20251219T165837Z
UID:10001462-1853661600-1853665200@montereycoa.org
SUMMARY:Tai Chi with David Crowe
DESCRIPTION:Wednesdays\, 10:00 AM – 11:00 AM at the Community Center. \nAccepting new attendees with Tai Chi experience. The cost $8 per class or $30 per month
URL:https://montereycoa.org/event/tai-chi-with-david-crowe/2028-09-27/
LOCATION:Monterey Community Center\, 468 Main Rd\, Monterey\, MA\, 01245\, United States
ATTACH;FMTTYPE=image/jpeg:https://montereycoa.org/wp-content/uploads/2025/12/tai-chi-e1766162640974.jpg
END:VEVENT
BEGIN:VEVENT
DTSTART;TZID=America/New_York:20280928T090000
DTEND;TZID=America/New_York:20280928T100000
DTSTAMP:20260422T230624
CREATED:20251202T165314Z
LAST-MODIFIED:20251231T142627Z
UID:10000933-1853744400-1853748000@montereycoa.org
SUMMARY:Yoga with Ben Corbett
DESCRIPTION:
URL:https://montereycoa.org/event/yoga-with-ben-corbett/2028-09-28/
LOCATION:Monterey Community Center\, 468 Main Rd\, Monterey\, MA\, 01245\, United States
ATTACH;FMTTYPE=image/jpeg:https://montereycoa.org/wp-content/uploads/2025/12/IMG_0918-1-e1767191052124.jpg
END:VEVENT
BEGIN:VEVENT
DTSTART;TZID=America/New_York:20280928T100000
DTEND;TZID=America/New_York:20280928T130000
DTSTAMP:20260422T230624
CREATED:20251219T170341Z
LAST-MODIFIED:20251219T170341Z
UID:10001672-1853748000-1853758800@montereycoa.org
SUMMARY:Open Art Studio With Beth Hoffman
DESCRIPTION:Last 2 Thursdays each month 11:00 AM – 1:00 pm Come and paint or draw in the company of other artists. A still life provides inspiration or draw from your own imagination. Anything goes! Please bring your own supplies. Coffee and a snack are provided. Please text or call Beth Hoffman to RSVP or if you have any questions: 201.463.9543
URL:https://montereycoa.org/event/open-art-studio-with-beth-hoffman-2/2028-09-28/
LOCATION:MA
ATTACH;FMTTYPE=image/jpeg:https://montereycoa.org/wp-content/uploads/2025/12/openartstudio-e1766162275793.jpg
END:VEVENT
BEGIN:VEVENT
DTSTART;TZID=America/New_York:20280928T110000
DTEND;TZID=America/New_York:20280928T130000
DTSTAMP:20260422T230624
CREATED:20251219T170849Z
LAST-MODIFIED:20251219T170849Z
UID:10001731-1853751600-1853758800@montereycoa.org
SUMMARY:Open Art Studio with Beth Hoffman
DESCRIPTION:Last 2 Thursdays each month 11:00 AM – 1:00 pm Come and paint or draw in the company of other artists. A still life provides inspiration or draw from your own imagination. Anything goes! Please bring your own supplies. Coffee and a snack are provided. Please text or call Beth Hoffman to RSVP or if you have any questions: 201.463.9543
URL:https://montereycoa.org/event/open-art-studio-with-beth-hoffman-3/2028-09-28/
LOCATION:Monterey Community Center\, 468 Main Rd\, Monterey\, MA\, 01245\, United States
ATTACH;FMTTYPE=image/jpeg:https://montereycoa.org/wp-content/uploads/2025/12/openartstudio-e1766162275793.jpg
END:VEVENT
BEGIN:VEVENT
DTSTART;TZID=America/New_York:20280928T140000
DTEND;TZID=America/New_York:20280928T160000
DTSTAMP:20260422T230624
CREATED:20251202T165119Z
LAST-MODIFIED:20251205T173218Z
UID:10001193-1853762400-1853769600@montereycoa.org
SUMMARY:Thursday Mahjong
DESCRIPTION:
URL:https://montereycoa.org/event/561/2028-09-28/
LOCATION:Monterey Community Center\, 468 Main Rd\, Monterey\, MA\, 01245\, United States
ATTACH;FMTTYPE=image/png:https://montereycoa.org/wp-content/uploads/2025/11/American-MahJong-Maureen-Banner.png
END:VEVENT
END:VCALENDAR