BEGIN:VCALENDAR
VERSION:2.0
PRODID:-//Monterey COA - ECPv6.15.20//NONSGML v1.0//EN
CALSCALE:GREGORIAN
METHOD:PUBLISH
X-WR-CALNAME:Monterey COA
X-ORIGINAL-URL:https://montereycoa.org
X-WR-CALDESC:Events for Monterey COA
REFRESH-INTERVAL;VALUE=DURATION:PT1H
X-Robots-Tag:noindex
X-PUBLISHED-TTL:PT1H
BEGIN:VTIMEZONE
TZID:America/New_York
BEGIN:DAYLIGHT
TZOFFSETFROM:-0500
TZOFFSETTO:-0400
TZNAME:EDT
DTSTART:20270314T070000
END:DAYLIGHT
BEGIN:STANDARD
TZOFFSETFROM:-0400
TZOFFSETTO:-0500
TZNAME:EST
DTSTART:20271107T060000
END:STANDARD
BEGIN:DAYLIGHT
TZOFFSETFROM:-0500
TZOFFSETTO:-0400
TZNAME:EDT
DTSTART:20280312T070000
END:DAYLIGHT
BEGIN:STANDARD
TZOFFSETFROM:-0400
TZOFFSETTO:-0500
TZNAME:EST
DTSTART:20281105T060000
END:STANDARD
BEGIN:DAYLIGHT
TZOFFSETFROM:-0500
TZOFFSETTO:-0400
TZNAME:EDT
DTSTART:20290311T070000
END:DAYLIGHT
BEGIN:STANDARD
TZOFFSETFROM:-0400
TZOFFSETTO:-0500
TZNAME:EST
DTSTART:20291104T060000
END:STANDARD
END:VTIMEZONE
BEGIN:VEVENT
DTSTART;TZID=America/New_York:20280713T140000
DTEND;TZID=America/New_York:20280713T160000
DTSTAMP:20260423T024605
CREATED:20251202T165119Z
LAST-MODIFIED:20251205T173218Z
UID:10001182-1847109600-1847116800@montereycoa.org
SUMMARY:Thursday Mahjong
DESCRIPTION:
URL:https://montereycoa.org/event/561/2028-07-13/
LOCATION:Monterey Community Center\, 468 Main Rd\, Monterey\, MA\, 01245\, United States
ATTACH;FMTTYPE=image/png:https://montereycoa.org/wp-content/uploads/2025/11/American-MahJong-Maureen-Banner.png
END:VEVENT
BEGIN:VEVENT
DTSTART;TZID=America/New_York:20280714T130000
DTEND;TZID=America/New_York:20280714T160000
DTSTAMP:20260423T024605
CREATED:20251202T162152Z
LAST-MODIFIED:20251217T211339Z
UID:10000399-1847192400-1847203200@montereycoa.org
SUMMARY:Friday Bridge
DESCRIPTION:
URL:https://montereycoa.org/event/bridge-at-the-monterey-community-center-2/2028-07-14/
LOCATION:Monterey Community Center\, 468 Main Rd\, Monterey\, MA\, 01245\, United States
ATTACH;FMTTYPE=image/jpeg:https://montereycoa.org/wp-content/uploads/2025/12/IMG_0164-e1766006012993.jpg
END:VEVENT
BEGIN:VEVENT
DTSTART;TZID=America/New_York:20280718T130000
DTEND;TZID=America/New_York:20280718T160000
DTSTAMP:20260423T024605
CREATED:20251202T161305Z
LAST-MODIFIED:20251205T172638Z
UID:10000139-1847538000-1847548800@montereycoa.org
SUMMARY:Tuesday Bridge
DESCRIPTION:
URL:https://montereycoa.org/event/bridge-at-the-monterey-community-center/2028-07-18/
LOCATION:Monterey Community Center\, 468 Main Rd\, Monterey\, MA\, 01245\, United States
ATTACH;FMTTYPE=image/webp:https://montereycoa.org/wp-content/uploads/2025/11/bridge-cards-600px.webp
END:VEVENT
BEGIN:VEVENT
DTSTART;TZID=America/New_York:20280718T190000
DTEND;TZID=America/New_York:20280718T210000
DTSTAMP:20260423T024605
CREATED:20251202T164719Z
LAST-MODIFIED:20251217T211048Z
UID:10000661-1847559600-1847566800@montereycoa.org
SUMMARY:Tuesday Mahjong
DESCRIPTION:
URL:https://montereycoa.org/event/mahjong/2028-07-18/
LOCATION:Monterey Community Center\, 468 Main Rd\, Monterey\, MA\, 01245\, United States
ATTACH;FMTTYPE=image/jpeg:https://montereycoa.org/wp-content/uploads/2025/12/IMG_5280-e1766005829765.jpg
END:VEVENT
BEGIN:VEVENT
DTSTART;TZID=America/New_York:20280719T100000
DTEND;TZID=America/New_York:20280719T110000
DTSTAMP:20260423T024605
CREATED:20251219T165837Z
LAST-MODIFIED:20251219T165837Z
UID:10001452-1847613600-1847617200@montereycoa.org
SUMMARY:Tai Chi with David Crowe
DESCRIPTION:Wednesdays\, 10:00 AM – 11:00 AM at the Community Center. \nAccepting new attendees with Tai Chi experience. The cost $8 per class or $30 per month
URL:https://montereycoa.org/event/tai-chi-with-david-crowe/2028-07-19/
LOCATION:Monterey Community Center\, 468 Main Rd\, Monterey\, MA\, 01245\, United States
ATTACH;FMTTYPE=image/jpeg:https://montereycoa.org/wp-content/uploads/2025/12/tai-chi-e1766162640974.jpg
END:VEVENT
BEGIN:VEVENT
DTSTART;TZID=America/New_York:20280720T090000
DTEND;TZID=America/New_York:20280720T100000
DTSTAMP:20260423T024605
CREATED:20251202T165314Z
LAST-MODIFIED:20251231T142627Z
UID:10000923-1847696400-1847700000@montereycoa.org
SUMMARY:Yoga with Ben Corbett
DESCRIPTION:
URL:https://montereycoa.org/event/yoga-with-ben-corbett/2028-07-20/
LOCATION:Monterey Community Center\, 468 Main Rd\, Monterey\, MA\, 01245\, United States
ATTACH;FMTTYPE=image/jpeg:https://montereycoa.org/wp-content/uploads/2025/12/IMG_0918-1-e1767191052124.jpg
END:VEVENT
BEGIN:VEVENT
DTSTART;TZID=America/New_York:20280720T110000
DTEND;TZID=America/New_York:20280720T130000
DTSTAMP:20260423T024605
CREATED:20260114T133153Z
LAST-MODIFIED:20260114T133153Z
UID:10001860-1847703600-1847710800@montereycoa.org
SUMMARY:Open Art Studio With Beth Hoffman
DESCRIPTION:Last 2 Thursdays each month 11:00 AM – 1:00 pm Come and paint or draw in the company of other artists. A still life provides inspiration or draw from your own imagination. Anything goes! Please bring your own supplies. Coffee and a snack are provided. Please text or call Beth Hoffman to RSVP or if you have any questions: 201.463.9543
URL:https://montereycoa.org/event/open-art-studio-with-beth-hoffman-4/2028-07-20/
LOCATION:MA
ATTACH;FMTTYPE=image/jpeg:https://montereycoa.org/wp-content/uploads/2025/12/openartstudio-e1766162275793.jpg
END:VEVENT
BEGIN:VEVENT
DTSTART;TZID=America/New_York:20280720T140000
DTEND;TZID=America/New_York:20280720T160000
DTSTAMP:20260423T024605
CREATED:20251202T165119Z
LAST-MODIFIED:20251205T173218Z
UID:10001183-1847714400-1847721600@montereycoa.org
SUMMARY:Thursday Mahjong
DESCRIPTION:
URL:https://montereycoa.org/event/561/2028-07-20/
LOCATION:Monterey Community Center\, 468 Main Rd\, Monterey\, MA\, 01245\, United States
ATTACH;FMTTYPE=image/png:https://montereycoa.org/wp-content/uploads/2025/11/American-MahJong-Maureen-Banner.png
END:VEVENT
BEGIN:VEVENT
DTSTART;TZID=America/New_York:20280721T130000
DTEND;TZID=America/New_York:20280721T160000
DTSTAMP:20260423T024605
CREATED:20251202T162152Z
LAST-MODIFIED:20251217T211339Z
UID:10000400-1847797200-1847808000@montereycoa.org
SUMMARY:Friday Bridge
DESCRIPTION:
URL:https://montereycoa.org/event/bridge-at-the-monterey-community-center-2/2028-07-21/
LOCATION:Monterey Community Center\, 468 Main Rd\, Monterey\, MA\, 01245\, United States
ATTACH;FMTTYPE=image/jpeg:https://montereycoa.org/wp-content/uploads/2025/12/IMG_0164-e1766006012993.jpg
END:VEVENT
BEGIN:VEVENT
DTSTART;TZID=America/New_York:20280725T130000
DTEND;TZID=America/New_York:20280725T160000
DTSTAMP:20260423T024605
CREATED:20251202T161305Z
LAST-MODIFIED:20251205T172638Z
UID:10000140-1848142800-1848153600@montereycoa.org
SUMMARY:Tuesday Bridge
DESCRIPTION:
URL:https://montereycoa.org/event/bridge-at-the-monterey-community-center/2028-07-25/
LOCATION:Monterey Community Center\, 468 Main Rd\, Monterey\, MA\, 01245\, United States
ATTACH;FMTTYPE=image/webp:https://montereycoa.org/wp-content/uploads/2025/11/bridge-cards-600px.webp
END:VEVENT
BEGIN:VEVENT
DTSTART;TZID=America/New_York:20280725T190000
DTEND;TZID=America/New_York:20280725T210000
DTSTAMP:20260423T024605
CREATED:20251202T164719Z
LAST-MODIFIED:20251217T211048Z
UID:10000662-1848164400-1848171600@montereycoa.org
SUMMARY:Tuesday Mahjong
DESCRIPTION:
URL:https://montereycoa.org/event/mahjong/2028-07-25/
LOCATION:Monterey Community Center\, 468 Main Rd\, Monterey\, MA\, 01245\, United States
ATTACH;FMTTYPE=image/jpeg:https://montereycoa.org/wp-content/uploads/2025/12/IMG_5280-e1766005829765.jpg
END:VEVENT
BEGIN:VEVENT
DTSTART;TZID=America/New_York:20280726T100000
DTEND;TZID=America/New_York:20280726T110000
DTSTAMP:20260423T024605
CREATED:20251219T165837Z
LAST-MODIFIED:20251219T165837Z
UID:10001453-1848218400-1848222000@montereycoa.org
SUMMARY:Tai Chi with David Crowe
DESCRIPTION:Wednesdays\, 10:00 AM – 11:00 AM at the Community Center. \nAccepting new attendees with Tai Chi experience. The cost $8 per class or $30 per month
URL:https://montereycoa.org/event/tai-chi-with-david-crowe/2028-07-26/
LOCATION:Monterey Community Center\, 468 Main Rd\, Monterey\, MA\, 01245\, United States
ATTACH;FMTTYPE=image/jpeg:https://montereycoa.org/wp-content/uploads/2025/12/tai-chi-e1766162640974.jpg
END:VEVENT
BEGIN:VEVENT
DTSTART;TZID=America/New_York:20280727T090000
DTEND;TZID=America/New_York:20280727T100000
DTSTAMP:20260423T024605
CREATED:20251202T165314Z
LAST-MODIFIED:20251231T142627Z
UID:10000924-1848301200-1848304800@montereycoa.org
SUMMARY:Yoga with Ben Corbett
DESCRIPTION:
URL:https://montereycoa.org/event/yoga-with-ben-corbett/2028-07-27/
LOCATION:Monterey Community Center\, 468 Main Rd\, Monterey\, MA\, 01245\, United States
ATTACH;FMTTYPE=image/jpeg:https://montereycoa.org/wp-content/uploads/2025/12/IMG_0918-1-e1767191052124.jpg
END:VEVENT
BEGIN:VEVENT
DTSTART;TZID=America/New_York:20280727T100000
DTEND;TZID=America/New_York:20280727T130000
DTSTAMP:20260423T024605
CREATED:20251219T170341Z
LAST-MODIFIED:20251219T170341Z
UID:10001670-1848304800-1848315600@montereycoa.org
SUMMARY:Open Art Studio With Beth Hoffman
DESCRIPTION:Last 2 Thursdays each month 11:00 AM – 1:00 pm Come and paint or draw in the company of other artists. A still life provides inspiration or draw from your own imagination. Anything goes! Please bring your own supplies. Coffee and a snack are provided. Please text or call Beth Hoffman to RSVP or if you have any questions: 201.463.9543
URL:https://montereycoa.org/event/open-art-studio-with-beth-hoffman-2/2028-07-27/
LOCATION:MA
ATTACH;FMTTYPE=image/jpeg:https://montereycoa.org/wp-content/uploads/2025/12/openartstudio-e1766162275793.jpg
END:VEVENT
BEGIN:VEVENT
DTSTART;TZID=America/New_York:20280727T110000
DTEND;TZID=America/New_York:20280727T130000
DTSTAMP:20260423T024605
CREATED:20251219T170849Z
LAST-MODIFIED:20251219T170849Z
UID:10001729-1848308400-1848315600@montereycoa.org
SUMMARY:Open Art Studio with Beth Hoffman
DESCRIPTION:Last 2 Thursdays each month 11:00 AM – 1:00 pm Come and paint or draw in the company of other artists. A still life provides inspiration or draw from your own imagination. Anything goes! Please bring your own supplies. Coffee and a snack are provided. Please text or call Beth Hoffman to RSVP or if you have any questions: 201.463.9543
URL:https://montereycoa.org/event/open-art-studio-with-beth-hoffman-3/2028-07-27/
LOCATION:Monterey Community Center\, 468 Main Rd\, Monterey\, MA\, 01245\, United States
ATTACH;FMTTYPE=image/jpeg:https://montereycoa.org/wp-content/uploads/2025/12/openartstudio-e1766162275793.jpg
END:VEVENT
BEGIN:VEVENT
DTSTART;TZID=America/New_York:20280727T140000
DTEND;TZID=America/New_York:20280727T160000
DTSTAMP:20260423T024605
CREATED:20251202T165119Z
LAST-MODIFIED:20251205T173218Z
UID:10001184-1848319200-1848326400@montereycoa.org
SUMMARY:Thursday Mahjong
DESCRIPTION:
URL:https://montereycoa.org/event/561/2028-07-27/
LOCATION:Monterey Community Center\, 468 Main Rd\, Monterey\, MA\, 01245\, United States
ATTACH;FMTTYPE=image/png:https://montereycoa.org/wp-content/uploads/2025/11/American-MahJong-Maureen-Banner.png
END:VEVENT
BEGIN:VEVENT
DTSTART;TZID=America/New_York:20280728T130000
DTEND;TZID=America/New_York:20280728T160000
DTSTAMP:20260423T024605
CREATED:20251202T162152Z
LAST-MODIFIED:20251217T211339Z
UID:10000401-1848402000-1848412800@montereycoa.org
SUMMARY:Friday Bridge
DESCRIPTION:
URL:https://montereycoa.org/event/bridge-at-the-monterey-community-center-2/2028-07-28/
LOCATION:Monterey Community Center\, 468 Main Rd\, Monterey\, MA\, 01245\, United States
ATTACH;FMTTYPE=image/jpeg:https://montereycoa.org/wp-content/uploads/2025/12/IMG_0164-e1766006012993.jpg
END:VEVENT
BEGIN:VEVENT
DTSTART;TZID=America/New_York:20280801T130000
DTEND;TZID=America/New_York:20280801T160000
DTSTAMP:20260423T024605
CREATED:20251202T161305Z
LAST-MODIFIED:20251205T172638Z
UID:10000141-1848747600-1848758400@montereycoa.org
SUMMARY:Tuesday Bridge
DESCRIPTION:
URL:https://montereycoa.org/event/bridge-at-the-monterey-community-center/2028-08-01/
LOCATION:Monterey Community Center\, 468 Main Rd\, Monterey\, MA\, 01245\, United States
ATTACH;FMTTYPE=image/webp:https://montereycoa.org/wp-content/uploads/2025/11/bridge-cards-600px.webp
END:VEVENT
BEGIN:VEVENT
DTSTART;TZID=America/New_York:20280801T190000
DTEND;TZID=America/New_York:20280801T210000
DTSTAMP:20260423T024605
CREATED:20251202T164719Z
LAST-MODIFIED:20251217T211048Z
UID:10000663-1848769200-1848776400@montereycoa.org
SUMMARY:Tuesday Mahjong
DESCRIPTION:
URL:https://montereycoa.org/event/mahjong/2028-08-01/
LOCATION:Monterey Community Center\, 468 Main Rd\, Monterey\, MA\, 01245\, United States
ATTACH;FMTTYPE=image/jpeg:https://montereycoa.org/wp-content/uploads/2025/12/IMG_5280-e1766005829765.jpg
END:VEVENT
BEGIN:VEVENT
DTSTART;TZID=America/New_York:20280802T100000
DTEND;TZID=America/New_York:20280802T110000
DTSTAMP:20260423T024605
CREATED:20251219T165837Z
LAST-MODIFIED:20251219T165837Z
UID:10001454-1848823200-1848826800@montereycoa.org
SUMMARY:Tai Chi with David Crowe
DESCRIPTION:Wednesdays\, 10:00 AM – 11:00 AM at the Community Center. \nAccepting new attendees with Tai Chi experience. The cost $8 per class or $30 per month
URL:https://montereycoa.org/event/tai-chi-with-david-crowe/2028-08-02/
LOCATION:Monterey Community Center\, 468 Main Rd\, Monterey\, MA\, 01245\, United States
ATTACH;FMTTYPE=image/jpeg:https://montereycoa.org/wp-content/uploads/2025/12/tai-chi-e1766162640974.jpg
END:VEVENT
BEGIN:VEVENT
DTSTART;TZID=America/New_York:20280803T090000
DTEND;TZID=America/New_York:20280803T100000
DTSTAMP:20260423T024605
CREATED:20251202T165314Z
LAST-MODIFIED:20251231T142627Z
UID:10000925-1848906000-1848909600@montereycoa.org
SUMMARY:Yoga with Ben Corbett
DESCRIPTION:
URL:https://montereycoa.org/event/yoga-with-ben-corbett/2028-08-03/
LOCATION:Monterey Community Center\, 468 Main Rd\, Monterey\, MA\, 01245\, United States
ATTACH;FMTTYPE=image/jpeg:https://montereycoa.org/wp-content/uploads/2025/12/IMG_0918-1-e1767191052124.jpg
END:VEVENT
BEGIN:VEVENT
DTSTART;TZID=America/New_York:20280803T140000
DTEND;TZID=America/New_York:20280803T150000
DTSTAMP:20260423T024605
CREATED:20260406T202506Z
LAST-MODIFIED:20260406T202506Z
UID:10001928-1848924000-1848927600@montereycoa.org
SUMMARY:Parkinson's Support Group
DESCRIPTION:Monterey Library  Call Virgil Stucker 828-388-4673 if interested in attending or the Monterey COA office 413-528-1443 ext 112
URL:https://montereycoa.org/event/parkinsons-support-group-2/2028-08-03/
LOCATION:Monterey Library\, 452 Main Rd\, Monterey\, MA\, 01245\, United States
ATTACH;FMTTYPE=image/webp:https://montereycoa.org/wp-content/uploads/2026/01/montereylibrary-e1767878473791.webp
END:VEVENT
BEGIN:VEVENT
DTSTART;TZID=America/New_York:20280803T140000
DTEND;TZID=America/New_York:20280803T160000
DTSTAMP:20260423T024605
CREATED:20251202T165119Z
LAST-MODIFIED:20251205T173218Z
UID:10001185-1848924000-1848931200@montereycoa.org
SUMMARY:Thursday Mahjong
DESCRIPTION:
URL:https://montereycoa.org/event/561/2028-08-03/
LOCATION:Monterey Community Center\, 468 Main Rd\, Monterey\, MA\, 01245\, United States
ATTACH;FMTTYPE=image/png:https://montereycoa.org/wp-content/uploads/2025/11/American-MahJong-Maureen-Banner.png
END:VEVENT
BEGIN:VEVENT
DTSTART;TZID=America/New_York:20280804T130000
DTEND;TZID=America/New_York:20280804T160000
DTSTAMP:20260423T024605
CREATED:20251202T162152Z
LAST-MODIFIED:20251217T211339Z
UID:10000402-1849006800-1849017600@montereycoa.org
SUMMARY:Friday Bridge
DESCRIPTION:
URL:https://montereycoa.org/event/bridge-at-the-monterey-community-center-2/2028-08-04/
LOCATION:Monterey Community Center\, 468 Main Rd\, Monterey\, MA\, 01245\, United States
ATTACH;FMTTYPE=image/jpeg:https://montereycoa.org/wp-content/uploads/2025/12/IMG_0164-e1766006012993.jpg
END:VEVENT
BEGIN:VEVENT
DTSTART;TZID=America/New_York:20280808T130000
DTEND;TZID=America/New_York:20280808T160000
DTSTAMP:20260423T024605
CREATED:20251202T161305Z
LAST-MODIFIED:20251205T172638Z
UID:10000142-1849352400-1849363200@montereycoa.org
SUMMARY:Tuesday Bridge
DESCRIPTION:
URL:https://montereycoa.org/event/bridge-at-the-monterey-community-center/2028-08-08/
LOCATION:Monterey Community Center\, 468 Main Rd\, Monterey\, MA\, 01245\, United States
ATTACH;FMTTYPE=image/webp:https://montereycoa.org/wp-content/uploads/2025/11/bridge-cards-600px.webp
END:VEVENT
BEGIN:VEVENT
DTSTART;TZID=America/New_York:20280808T190000
DTEND;TZID=America/New_York:20280808T210000
DTSTAMP:20260423T024605
CREATED:20251202T164719Z
LAST-MODIFIED:20251217T211048Z
UID:10000664-1849374000-1849381200@montereycoa.org
SUMMARY:Tuesday Mahjong
DESCRIPTION:
URL:https://montereycoa.org/event/mahjong/2028-08-08/
LOCATION:Monterey Community Center\, 468 Main Rd\, Monterey\, MA\, 01245\, United States
ATTACH;FMTTYPE=image/jpeg:https://montereycoa.org/wp-content/uploads/2025/12/IMG_5280-e1766005829765.jpg
END:VEVENT
BEGIN:VEVENT
DTSTART;TZID=America/New_York:20280809T100000
DTEND;TZID=America/New_York:20280809T110000
DTSTAMP:20260423T024605
CREATED:20251219T165837Z
LAST-MODIFIED:20251219T165837Z
UID:10001455-1849428000-1849431600@montereycoa.org
SUMMARY:Tai Chi with David Crowe
DESCRIPTION:Wednesdays\, 10:00 AM – 11:00 AM at the Community Center. \nAccepting new attendees with Tai Chi experience. The cost $8 per class or $30 per month
URL:https://montereycoa.org/event/tai-chi-with-david-crowe/2028-08-09/
LOCATION:Monterey Community Center\, 468 Main Rd\, Monterey\, MA\, 01245\, United States
ATTACH;FMTTYPE=image/jpeg:https://montereycoa.org/wp-content/uploads/2025/12/tai-chi-e1766162640974.jpg
END:VEVENT
BEGIN:VEVENT
DTSTART;TZID=America/New_York:20280810T090000
DTEND;TZID=America/New_York:20280810T100000
DTSTAMP:20260423T024605
CREATED:20251202T165314Z
LAST-MODIFIED:20251231T142627Z
UID:10000926-1849510800-1849514400@montereycoa.org
SUMMARY:Yoga with Ben Corbett
DESCRIPTION:
URL:https://montereycoa.org/event/yoga-with-ben-corbett/2028-08-10/
LOCATION:Monterey Community Center\, 468 Main Rd\, Monterey\, MA\, 01245\, United States
ATTACH;FMTTYPE=image/jpeg:https://montereycoa.org/wp-content/uploads/2025/12/IMG_0918-1-e1767191052124.jpg
END:VEVENT
BEGIN:VEVENT
DTSTART;TZID=America/New_York:20280810T140000
DTEND;TZID=America/New_York:20280810T160000
DTSTAMP:20260423T024605
CREATED:20251202T165119Z
LAST-MODIFIED:20251205T173218Z
UID:10001186-1849528800-1849536000@montereycoa.org
SUMMARY:Thursday Mahjong
DESCRIPTION:
URL:https://montereycoa.org/event/561/2028-08-10/
LOCATION:Monterey Community Center\, 468 Main Rd\, Monterey\, MA\, 01245\, United States
ATTACH;FMTTYPE=image/png:https://montereycoa.org/wp-content/uploads/2025/11/American-MahJong-Maureen-Banner.png
END:VEVENT
BEGIN:VEVENT
DTSTART;TZID=America/New_York:20280811T130000
DTEND;TZID=America/New_York:20280811T160000
DTSTAMP:20260423T024605
CREATED:20251202T162152Z
LAST-MODIFIED:20251217T211339Z
UID:10000403-1849611600-1849622400@montereycoa.org
SUMMARY:Friday Bridge
DESCRIPTION:
URL:https://montereycoa.org/event/bridge-at-the-monterey-community-center-2/2028-08-11/
LOCATION:Monterey Community Center\, 468 Main Rd\, Monterey\, MA\, 01245\, United States
ATTACH;FMTTYPE=image/jpeg:https://montereycoa.org/wp-content/uploads/2025/12/IMG_0164-e1766006012993.jpg
END:VEVENT
END:VCALENDAR