BEGIN:VCALENDAR
VERSION:2.0
PRODID:-//Monterey COA - ECPv6.15.20//NONSGML v1.0//EN
CALSCALE:GREGORIAN
METHOD:PUBLISH
X-WR-CALNAME:Monterey COA
X-ORIGINAL-URL:https://montereycoa.org
X-WR-CALDESC:Events for Monterey COA
REFRESH-INTERVAL;VALUE=DURATION:PT1H
X-Robots-Tag:noindex
X-PUBLISHED-TTL:PT1H
BEGIN:VTIMEZONE
TZID:America/New_York
BEGIN:DAYLIGHT
TZOFFSETFROM:-0500
TZOFFSETTO:-0400
TZNAME:EDT
DTSTART:20270314T070000
END:DAYLIGHT
BEGIN:STANDARD
TZOFFSETFROM:-0400
TZOFFSETTO:-0500
TZNAME:EST
DTSTART:20271107T060000
END:STANDARD
BEGIN:DAYLIGHT
TZOFFSETFROM:-0500
TZOFFSETTO:-0400
TZNAME:EDT
DTSTART:20280312T070000
END:DAYLIGHT
BEGIN:STANDARD
TZOFFSETFROM:-0400
TZOFFSETTO:-0500
TZNAME:EST
DTSTART:20281105T060000
END:STANDARD
BEGIN:DAYLIGHT
TZOFFSETFROM:-0500
TZOFFSETTO:-0400
TZNAME:EDT
DTSTART:20290311T070000
END:DAYLIGHT
BEGIN:STANDARD
TZOFFSETFROM:-0400
TZOFFSETTO:-0500
TZNAME:EST
DTSTART:20291104T060000
END:STANDARD
END:VTIMEZONE
BEGIN:VEVENT
DTSTART;TZID=America/New_York:20280525T110000
DTEND;TZID=America/New_York:20280525T130000
DTSTAMP:20260422T081337
CREATED:20251219T170849Z
LAST-MODIFIED:20251219T170849Z
UID:10001727-1842865200-1842872400@montereycoa.org
SUMMARY:Open Art Studio with Beth Hoffman
DESCRIPTION:Last 2 Thursdays each month 11:00 AM – 1:00 pm Come and paint or draw in the company of other artists. A still life provides inspiration or draw from your own imagination. Anything goes! Please bring your own supplies. Coffee and a snack are provided. Please text or call Beth Hoffman to RSVP or if you have any questions: 201.463.9543
URL:https://montereycoa.org/event/open-art-studio-with-beth-hoffman-3/2028-05-25/
LOCATION:Monterey Community Center\, 468 Main Rd\, Monterey\, MA\, 01245\, United States
ATTACH;FMTTYPE=image/jpeg:https://montereycoa.org/wp-content/uploads/2025/12/openartstudio-e1766162275793.jpg
END:VEVENT
BEGIN:VEVENT
DTSTART;TZID=America/New_York:20280525T140000
DTEND;TZID=America/New_York:20280525T160000
DTSTAMP:20260422T081337
CREATED:20251202T165119Z
LAST-MODIFIED:20251205T173218Z
UID:10001175-1842876000-1842883200@montereycoa.org
SUMMARY:Thursday Mahjong
DESCRIPTION:
URL:https://montereycoa.org/event/561/2028-05-25/
LOCATION:Monterey Community Center\, 468 Main Rd\, Monterey\, MA\, 01245\, United States
ATTACH;FMTTYPE=image/png:https://montereycoa.org/wp-content/uploads/2025/11/American-MahJong-Maureen-Banner.png
END:VEVENT
BEGIN:VEVENT
DTSTART;TZID=America/New_York:20280526T130000
DTEND;TZID=America/New_York:20280526T160000
DTSTAMP:20260422T081337
CREATED:20251202T162152Z
LAST-MODIFIED:20251217T211339Z
UID:10000392-1842958800-1842969600@montereycoa.org
SUMMARY:Friday Bridge
DESCRIPTION:
URL:https://montereycoa.org/event/bridge-at-the-monterey-community-center-2/2028-05-26/
LOCATION:Monterey Community Center\, 468 Main Rd\, Monterey\, MA\, 01245\, United States
ATTACH;FMTTYPE=image/jpeg:https://montereycoa.org/wp-content/uploads/2025/12/IMG_0164-e1766006012993.jpg
END:VEVENT
BEGIN:VEVENT
DTSTART;TZID=America/New_York:20280530T130000
DTEND;TZID=America/New_York:20280530T160000
DTSTAMP:20260422T081337
CREATED:20251202T161305Z
LAST-MODIFIED:20251205T172638Z
UID:10000132-1843304400-1843315200@montereycoa.org
SUMMARY:Tuesday Bridge
DESCRIPTION:
URL:https://montereycoa.org/event/bridge-at-the-monterey-community-center/2028-05-30/
LOCATION:Monterey Community Center\, 468 Main Rd\, Monterey\, MA\, 01245\, United States
ATTACH;FMTTYPE=image/webp:https://montereycoa.org/wp-content/uploads/2025/11/bridge-cards-600px.webp
END:VEVENT
BEGIN:VEVENT
DTSTART;TZID=America/New_York:20280530T190000
DTEND;TZID=America/New_York:20280530T210000
DTSTAMP:20260422T081337
CREATED:20251202T164719Z
LAST-MODIFIED:20251217T211048Z
UID:10000654-1843326000-1843333200@montereycoa.org
SUMMARY:Tuesday Mahjong
DESCRIPTION:
URL:https://montereycoa.org/event/mahjong/2028-05-30/
LOCATION:Monterey Community Center\, 468 Main Rd\, Monterey\, MA\, 01245\, United States
ATTACH;FMTTYPE=image/jpeg:https://montereycoa.org/wp-content/uploads/2025/12/IMG_5280-e1766005829765.jpg
END:VEVENT
BEGIN:VEVENT
DTSTART;TZID=America/New_York:20280531T100000
DTEND;TZID=America/New_York:20280531T110000
DTSTAMP:20260422T081337
CREATED:20251219T165837Z
LAST-MODIFIED:20251219T165837Z
UID:10001445-1843380000-1843383600@montereycoa.org
SUMMARY:Tai Chi with David Crowe
DESCRIPTION:Wednesdays\, 10:00 AM – 11:00 AM at the Community Center. \nAccepting new attendees with Tai Chi experience. The cost $8 per class or $30 per month
URL:https://montereycoa.org/event/tai-chi-with-david-crowe/2028-05-31/
LOCATION:Monterey Community Center\, 468 Main Rd\, Monterey\, MA\, 01245\, United States
ATTACH;FMTTYPE=image/jpeg:https://montereycoa.org/wp-content/uploads/2025/12/tai-chi-e1766162640974.jpg
END:VEVENT
BEGIN:VEVENT
DTSTART;TZID=America/New_York:20280601T090000
DTEND;TZID=America/New_York:20280601T100000
DTSTAMP:20260422T081337
CREATED:20251202T165314Z
LAST-MODIFIED:20251231T142627Z
UID:10000916-1843462800-1843466400@montereycoa.org
SUMMARY:Yoga with Ben Corbett
DESCRIPTION:
URL:https://montereycoa.org/event/yoga-with-ben-corbett/2028-06-01/
LOCATION:Monterey Community Center\, 468 Main Rd\, Monterey\, MA\, 01245\, United States
ATTACH;FMTTYPE=image/jpeg:https://montereycoa.org/wp-content/uploads/2025/12/IMG_0918-1-e1767191052124.jpg
END:VEVENT
BEGIN:VEVENT
DTSTART;TZID=America/New_York:20280601T140000
DTEND;TZID=America/New_York:20280601T150000
DTSTAMP:20260422T081337
CREATED:20260406T202506Z
LAST-MODIFIED:20260406T202506Z
UID:10001926-1843480800-1843484400@montereycoa.org
SUMMARY:Parkinson's Support Group
DESCRIPTION:Monterey Library  Call Virgil Stucker 828-388-4673 if interested in attending or the Monterey COA office 413-528-1443 ext 112
URL:https://montereycoa.org/event/parkinsons-support-group-2/2028-06-01/
LOCATION:Monterey Library\, 452 Main Rd\, Monterey\, MA\, 01245\, United States
ATTACH;FMTTYPE=image/webp:https://montereycoa.org/wp-content/uploads/2026/01/montereylibrary-e1767878473791.webp
END:VEVENT
BEGIN:VEVENT
DTSTART;TZID=America/New_York:20280601T140000
DTEND;TZID=America/New_York:20280601T160000
DTSTAMP:20260422T081337
CREATED:20251202T165119Z
LAST-MODIFIED:20251205T173218Z
UID:10001176-1843480800-1843488000@montereycoa.org
SUMMARY:Thursday Mahjong
DESCRIPTION:
URL:https://montereycoa.org/event/561/2028-06-01/
LOCATION:Monterey Community Center\, 468 Main Rd\, Monterey\, MA\, 01245\, United States
ATTACH;FMTTYPE=image/png:https://montereycoa.org/wp-content/uploads/2025/11/American-MahJong-Maureen-Banner.png
END:VEVENT
BEGIN:VEVENT
DTSTART;TZID=America/New_York:20280602T130000
DTEND;TZID=America/New_York:20280602T160000
DTSTAMP:20260422T081337
CREATED:20251202T162152Z
LAST-MODIFIED:20251217T211339Z
UID:10000393-1843563600-1843574400@montereycoa.org
SUMMARY:Friday Bridge
DESCRIPTION:
URL:https://montereycoa.org/event/bridge-at-the-monterey-community-center-2/2028-06-02/
LOCATION:Monterey Community Center\, 468 Main Rd\, Monterey\, MA\, 01245\, United States
ATTACH;FMTTYPE=image/jpeg:https://montereycoa.org/wp-content/uploads/2025/12/IMG_0164-e1766006012993.jpg
END:VEVENT
BEGIN:VEVENT
DTSTART;TZID=America/New_York:20280606T130000
DTEND;TZID=America/New_York:20280606T160000
DTSTAMP:20260422T081337
CREATED:20251202T161305Z
LAST-MODIFIED:20251205T172638Z
UID:10000133-1843909200-1843920000@montereycoa.org
SUMMARY:Tuesday Bridge
DESCRIPTION:
URL:https://montereycoa.org/event/bridge-at-the-monterey-community-center/2028-06-06/
LOCATION:Monterey Community Center\, 468 Main Rd\, Monterey\, MA\, 01245\, United States
ATTACH;FMTTYPE=image/webp:https://montereycoa.org/wp-content/uploads/2025/11/bridge-cards-600px.webp
END:VEVENT
BEGIN:VEVENT
DTSTART;TZID=America/New_York:20280606T190000
DTEND;TZID=America/New_York:20280606T210000
DTSTAMP:20260422T081337
CREATED:20251202T164719Z
LAST-MODIFIED:20251217T211048Z
UID:10000655-1843930800-1843938000@montereycoa.org
SUMMARY:Tuesday Mahjong
DESCRIPTION:
URL:https://montereycoa.org/event/mahjong/2028-06-06/
LOCATION:Monterey Community Center\, 468 Main Rd\, Monterey\, MA\, 01245\, United States
ATTACH;FMTTYPE=image/jpeg:https://montereycoa.org/wp-content/uploads/2025/12/IMG_5280-e1766005829765.jpg
END:VEVENT
BEGIN:VEVENT
DTSTART;TZID=America/New_York:20280607T100000
DTEND;TZID=America/New_York:20280607T110000
DTSTAMP:20260422T081337
CREATED:20251219T165837Z
LAST-MODIFIED:20251219T165837Z
UID:10001446-1843984800-1843988400@montereycoa.org
SUMMARY:Tai Chi with David Crowe
DESCRIPTION:Wednesdays\, 10:00 AM – 11:00 AM at the Community Center. \nAccepting new attendees with Tai Chi experience. The cost $8 per class or $30 per month
URL:https://montereycoa.org/event/tai-chi-with-david-crowe/2028-06-07/
LOCATION:Monterey Community Center\, 468 Main Rd\, Monterey\, MA\, 01245\, United States
ATTACH;FMTTYPE=image/jpeg:https://montereycoa.org/wp-content/uploads/2025/12/tai-chi-e1766162640974.jpg
END:VEVENT
BEGIN:VEVENT
DTSTART;TZID=America/New_York:20280608T090000
DTEND;TZID=America/New_York:20280608T100000
DTSTAMP:20260422T081337
CREATED:20251202T165314Z
LAST-MODIFIED:20251231T142627Z
UID:10000917-1844067600-1844071200@montereycoa.org
SUMMARY:Yoga with Ben Corbett
DESCRIPTION:
URL:https://montereycoa.org/event/yoga-with-ben-corbett/2028-06-08/
LOCATION:Monterey Community Center\, 468 Main Rd\, Monterey\, MA\, 01245\, United States
ATTACH;FMTTYPE=image/jpeg:https://montereycoa.org/wp-content/uploads/2025/12/IMG_0918-1-e1767191052124.jpg
END:VEVENT
BEGIN:VEVENT
DTSTART;TZID=America/New_York:20280608T140000
DTEND;TZID=America/New_York:20280608T160000
DTSTAMP:20260422T081337
CREATED:20251202T165119Z
LAST-MODIFIED:20251205T173218Z
UID:10001177-1844085600-1844092800@montereycoa.org
SUMMARY:Thursday Mahjong
DESCRIPTION:
URL:https://montereycoa.org/event/561/2028-06-08/
LOCATION:Monterey Community Center\, 468 Main Rd\, Monterey\, MA\, 01245\, United States
ATTACH;FMTTYPE=image/png:https://montereycoa.org/wp-content/uploads/2025/11/American-MahJong-Maureen-Banner.png
END:VEVENT
BEGIN:VEVENT
DTSTART;TZID=America/New_York:20280609T130000
DTEND;TZID=America/New_York:20280609T160000
DTSTAMP:20260422T081337
CREATED:20251202T162152Z
LAST-MODIFIED:20251217T211339Z
UID:10000394-1844168400-1844179200@montereycoa.org
SUMMARY:Friday Bridge
DESCRIPTION:
URL:https://montereycoa.org/event/bridge-at-the-monterey-community-center-2/2028-06-09/
LOCATION:Monterey Community Center\, 468 Main Rd\, Monterey\, MA\, 01245\, United States
ATTACH;FMTTYPE=image/jpeg:https://montereycoa.org/wp-content/uploads/2025/12/IMG_0164-e1766006012993.jpg
END:VEVENT
BEGIN:VEVENT
DTSTART;TZID=America/New_York:20280613T130000
DTEND;TZID=America/New_York:20280613T160000
DTSTAMP:20260422T081337
CREATED:20251202T161305Z
LAST-MODIFIED:20251205T172638Z
UID:10000134-1844514000-1844524800@montereycoa.org
SUMMARY:Tuesday Bridge
DESCRIPTION:
URL:https://montereycoa.org/event/bridge-at-the-monterey-community-center/2028-06-13/
LOCATION:Monterey Community Center\, 468 Main Rd\, Monterey\, MA\, 01245\, United States
ATTACH;FMTTYPE=image/webp:https://montereycoa.org/wp-content/uploads/2025/11/bridge-cards-600px.webp
END:VEVENT
BEGIN:VEVENT
DTSTART;TZID=America/New_York:20280613T190000
DTEND;TZID=America/New_York:20280613T210000
DTSTAMP:20260422T081337
CREATED:20251202T164719Z
LAST-MODIFIED:20251217T211048Z
UID:10000656-1844535600-1844542800@montereycoa.org
SUMMARY:Tuesday Mahjong
DESCRIPTION:
URL:https://montereycoa.org/event/mahjong/2028-06-13/
LOCATION:Monterey Community Center\, 468 Main Rd\, Monterey\, MA\, 01245\, United States
ATTACH;FMTTYPE=image/jpeg:https://montereycoa.org/wp-content/uploads/2025/12/IMG_5280-e1766005829765.jpg
END:VEVENT
BEGIN:VEVENT
DTSTART;TZID=America/New_York:20280614T100000
DTEND;TZID=America/New_York:20280614T110000
DTSTAMP:20260422T081337
CREATED:20251219T165837Z
LAST-MODIFIED:20251219T165837Z
UID:10001447-1844589600-1844593200@montereycoa.org
SUMMARY:Tai Chi with David Crowe
DESCRIPTION:Wednesdays\, 10:00 AM – 11:00 AM at the Community Center. \nAccepting new attendees with Tai Chi experience. The cost $8 per class or $30 per month
URL:https://montereycoa.org/event/tai-chi-with-david-crowe/2028-06-14/
LOCATION:Monterey Community Center\, 468 Main Rd\, Monterey\, MA\, 01245\, United States
ATTACH;FMTTYPE=image/jpeg:https://montereycoa.org/wp-content/uploads/2025/12/tai-chi-e1766162640974.jpg
END:VEVENT
BEGIN:VEVENT
DTSTART;TZID=America/New_York:20280615T090000
DTEND;TZID=America/New_York:20280615T100000
DTSTAMP:20260422T081337
CREATED:20251202T165314Z
LAST-MODIFIED:20251231T142627Z
UID:10000918-1844672400-1844676000@montereycoa.org
SUMMARY:Yoga with Ben Corbett
DESCRIPTION:
URL:https://montereycoa.org/event/yoga-with-ben-corbett/2028-06-15/
LOCATION:Monterey Community Center\, 468 Main Rd\, Monterey\, MA\, 01245\, United States
ATTACH;FMTTYPE=image/jpeg:https://montereycoa.org/wp-content/uploads/2025/12/IMG_0918-1-e1767191052124.jpg
END:VEVENT
BEGIN:VEVENT
DTSTART;TZID=America/New_York:20280615T110000
DTEND;TZID=America/New_York:20280615T130000
DTSTAMP:20260422T081337
CREATED:20260114T133153Z
LAST-MODIFIED:20260114T133153Z
UID:10001859-1844679600-1844686800@montereycoa.org
SUMMARY:Open Art Studio With Beth Hoffman
DESCRIPTION:Last 2 Thursdays each month 11:00 AM – 1:00 pm Come and paint or draw in the company of other artists. A still life provides inspiration or draw from your own imagination. Anything goes! Please bring your own supplies. Coffee and a snack are provided. Please text or call Beth Hoffman to RSVP or if you have any questions: 201.463.9543
URL:https://montereycoa.org/event/open-art-studio-with-beth-hoffman-4/2028-06-15/
LOCATION:MA
ATTACH;FMTTYPE=image/jpeg:https://montereycoa.org/wp-content/uploads/2025/12/openartstudio-e1766162275793.jpg
END:VEVENT
BEGIN:VEVENT
DTSTART;TZID=America/New_York:20280615T140000
DTEND;TZID=America/New_York:20280615T160000
DTSTAMP:20260422T081337
CREATED:20251202T165119Z
LAST-MODIFIED:20251205T173218Z
UID:10001178-1844690400-1844697600@montereycoa.org
SUMMARY:Thursday Mahjong
DESCRIPTION:
URL:https://montereycoa.org/event/561/2028-06-15/
LOCATION:Monterey Community Center\, 468 Main Rd\, Monterey\, MA\, 01245\, United States
ATTACH;FMTTYPE=image/png:https://montereycoa.org/wp-content/uploads/2025/11/American-MahJong-Maureen-Banner.png
END:VEVENT
BEGIN:VEVENT
DTSTART;TZID=America/New_York:20280616T130000
DTEND;TZID=America/New_York:20280616T160000
DTSTAMP:20260422T081337
CREATED:20251202T162152Z
LAST-MODIFIED:20251217T211339Z
UID:10000395-1844773200-1844784000@montereycoa.org
SUMMARY:Friday Bridge
DESCRIPTION:
URL:https://montereycoa.org/event/bridge-at-the-monterey-community-center-2/2028-06-16/
LOCATION:Monterey Community Center\, 468 Main Rd\, Monterey\, MA\, 01245\, United States
ATTACH;FMTTYPE=image/jpeg:https://montereycoa.org/wp-content/uploads/2025/12/IMG_0164-e1766006012993.jpg
END:VEVENT
BEGIN:VEVENT
DTSTART;TZID=America/New_York:20280620T130000
DTEND;TZID=America/New_York:20280620T160000
DTSTAMP:20260422T081337
CREATED:20251202T161305Z
LAST-MODIFIED:20251205T172638Z
UID:10000135-1845118800-1845129600@montereycoa.org
SUMMARY:Tuesday Bridge
DESCRIPTION:
URL:https://montereycoa.org/event/bridge-at-the-monterey-community-center/2028-06-20/
LOCATION:Monterey Community Center\, 468 Main Rd\, Monterey\, MA\, 01245\, United States
ATTACH;FMTTYPE=image/webp:https://montereycoa.org/wp-content/uploads/2025/11/bridge-cards-600px.webp
END:VEVENT
BEGIN:VEVENT
DTSTART;TZID=America/New_York:20280620T190000
DTEND;TZID=America/New_York:20280620T210000
DTSTAMP:20260422T081337
CREATED:20251202T164719Z
LAST-MODIFIED:20251217T211048Z
UID:10000657-1845140400-1845147600@montereycoa.org
SUMMARY:Tuesday Mahjong
DESCRIPTION:
URL:https://montereycoa.org/event/mahjong/2028-06-20/
LOCATION:Monterey Community Center\, 468 Main Rd\, Monterey\, MA\, 01245\, United States
ATTACH;FMTTYPE=image/jpeg:https://montereycoa.org/wp-content/uploads/2025/12/IMG_5280-e1766005829765.jpg
END:VEVENT
BEGIN:VEVENT
DTSTART;TZID=America/New_York:20280621T100000
DTEND;TZID=America/New_York:20280621T110000
DTSTAMP:20260422T081337
CREATED:20251219T165837Z
LAST-MODIFIED:20251219T165837Z
UID:10001448-1845194400-1845198000@montereycoa.org
SUMMARY:Tai Chi with David Crowe
DESCRIPTION:Wednesdays\, 10:00 AM – 11:00 AM at the Community Center. \nAccepting new attendees with Tai Chi experience. The cost $8 per class or $30 per month
URL:https://montereycoa.org/event/tai-chi-with-david-crowe/2028-06-21/
LOCATION:Monterey Community Center\, 468 Main Rd\, Monterey\, MA\, 01245\, United States
ATTACH;FMTTYPE=image/jpeg:https://montereycoa.org/wp-content/uploads/2025/12/tai-chi-e1766162640974.jpg
END:VEVENT
BEGIN:VEVENT
DTSTART;TZID=America/New_York:20280622T090000
DTEND;TZID=America/New_York:20280622T100000
DTSTAMP:20260422T081337
CREATED:20251202T165314Z
LAST-MODIFIED:20251231T142627Z
UID:10000919-1845277200-1845280800@montereycoa.org
SUMMARY:Yoga with Ben Corbett
DESCRIPTION:
URL:https://montereycoa.org/event/yoga-with-ben-corbett/2028-06-22/
LOCATION:Monterey Community Center\, 468 Main Rd\, Monterey\, MA\, 01245\, United States
ATTACH;FMTTYPE=image/jpeg:https://montereycoa.org/wp-content/uploads/2025/12/IMG_0918-1-e1767191052124.jpg
END:VEVENT
BEGIN:VEVENT
DTSTART;TZID=America/New_York:20280622T110000
DTEND;TZID=America/New_York:20280622T130000
DTSTAMP:20260422T081337
CREATED:20251219T170849Z
LAST-MODIFIED:20251219T170849Z
UID:10001728-1845284400-1845291600@montereycoa.org
SUMMARY:Open Art Studio with Beth Hoffman
DESCRIPTION:Last 2 Thursdays each month 11:00 AM – 1:00 pm Come and paint or draw in the company of other artists. A still life provides inspiration or draw from your own imagination. Anything goes! Please bring your own supplies. Coffee and a snack are provided. Please text or call Beth Hoffman to RSVP or if you have any questions: 201.463.9543
URL:https://montereycoa.org/event/open-art-studio-with-beth-hoffman-3/2028-06-22/
LOCATION:Monterey Community Center\, 468 Main Rd\, Monterey\, MA\, 01245\, United States
ATTACH;FMTTYPE=image/jpeg:https://montereycoa.org/wp-content/uploads/2025/12/openartstudio-e1766162275793.jpg
END:VEVENT
BEGIN:VEVENT
DTSTART;TZID=America/New_York:20280622T140000
DTEND;TZID=America/New_York:20280622T160000
DTSTAMP:20260422T081337
CREATED:20251202T165119Z
LAST-MODIFIED:20251205T173218Z
UID:10001179-1845295200-1845302400@montereycoa.org
SUMMARY:Thursday Mahjong
DESCRIPTION:
URL:https://montereycoa.org/event/561/2028-06-22/
LOCATION:Monterey Community Center\, 468 Main Rd\, Monterey\, MA\, 01245\, United States
ATTACH;FMTTYPE=image/png:https://montereycoa.org/wp-content/uploads/2025/11/American-MahJong-Maureen-Banner.png
END:VEVENT
BEGIN:VEVENT
DTSTART;TZID=America/New_York:20280623T130000
DTEND;TZID=America/New_York:20280623T160000
DTSTAMP:20260422T081337
CREATED:20251202T162152Z
LAST-MODIFIED:20251217T211339Z
UID:10000396-1845378000-1845388800@montereycoa.org
SUMMARY:Friday Bridge
DESCRIPTION:
URL:https://montereycoa.org/event/bridge-at-the-monterey-community-center-2/2028-06-23/
LOCATION:Monterey Community Center\, 468 Main Rd\, Monterey\, MA\, 01245\, United States
ATTACH;FMTTYPE=image/jpeg:https://montereycoa.org/wp-content/uploads/2025/12/IMG_0164-e1766006012993.jpg
END:VEVENT
END:VCALENDAR