BEGIN:VCALENDAR
VERSION:2.0
PRODID:-//Monterey COA - ECPv6.15.20//NONSGML v1.0//EN
CALSCALE:GREGORIAN
METHOD:PUBLISH
X-ORIGINAL-URL:https://montereycoa.org
X-WR-CALDESC:Events for Monterey COA
REFRESH-INTERVAL;VALUE=DURATION:PT1H
X-Robots-Tag:noindex
X-PUBLISHED-TTL:PT1H
BEGIN:VTIMEZONE
TZID:America/New_York
BEGIN:DAYLIGHT
TZOFFSETFROM:-0500
TZOFFSETTO:-0400
TZNAME:EDT
DTSTART:20260308T070000
END:DAYLIGHT
BEGIN:STANDARD
TZOFFSETFROM:-0400
TZOFFSETTO:-0500
TZNAME:EST
DTSTART:20261101T060000
END:STANDARD
BEGIN:DAYLIGHT
TZOFFSETFROM:-0500
TZOFFSETTO:-0400
TZNAME:EDT
DTSTART:20270314T070000
END:DAYLIGHT
BEGIN:STANDARD
TZOFFSETFROM:-0400
TZOFFSETTO:-0500
TZNAME:EST
DTSTART:20271107T060000
END:STANDARD
BEGIN:DAYLIGHT
TZOFFSETFROM:-0500
TZOFFSETTO:-0400
TZNAME:EDT
DTSTART:20280312T070000
END:DAYLIGHT
BEGIN:STANDARD
TZOFFSETFROM:-0400
TZOFFSETTO:-0500
TZNAME:EST
DTSTART:20281105T060000
END:STANDARD
END:VTIMEZONE
BEGIN:VEVENT
DTSTART;TZID=America/New_York:20270630T100000
DTEND;TZID=America/New_York:20270630T110000
DTSTAMP:20260420T231456
CREATED:20251219T165837Z
LAST-MODIFIED:20251219T165837Z
UID:10001397-1814349600-1814353200@montereycoa.org
SUMMARY:Tai Chi with David Crowe
DESCRIPTION:Wednesdays\, 10:00 AM – 11:00 AM at the Community Center. \nAccepting new attendees with Tai Chi experience. The cost $8 per class or $30 per month
URL:https://montereycoa.org/event/tai-chi-with-david-crowe/2027-06-30/
LOCATION:Monterey Community Center\, 468 Main Rd\, Monterey\, MA\, 01245\, United States
ATTACH;FMTTYPE=image/jpeg:https://montereycoa.org/wp-content/uploads/2025/12/tai-chi-e1766162640974.jpg
END:VEVENT
BEGIN:VEVENT
DTSTART;TZID=America/New_York:20270701T090000
DTEND;TZID=America/New_York:20270701T100000
DTSTAMP:20260420T231456
CREATED:20251202T165314Z
LAST-MODIFIED:20251231T142627Z
UID:10000868-1814432400-1814436000@montereycoa.org
SUMMARY:Yoga with Ben Corbett
DESCRIPTION:
URL:https://montereycoa.org/event/yoga-with-ben-corbett/2027-07-01/
LOCATION:Monterey Community Center\, 468 Main Rd\, Monterey\, MA\, 01245\, United States
ATTACH;FMTTYPE=image/jpeg:https://montereycoa.org/wp-content/uploads/2025/12/IMG_0918-1-e1767191052124.jpg
END:VEVENT
BEGIN:VEVENT
DTSTART;TZID=America/New_York:20270701T140000
DTEND;TZID=America/New_York:20270701T150000
DTSTAMP:20260420T231456
CREATED:20260406T202506Z
LAST-MODIFIED:20260406T202506Z
UID:10001915-1814450400-1814454000@montereycoa.org
SUMMARY:Parkinson's Support Group
DESCRIPTION:Monterey Library  Call Virgil Stucker 828-388-4673 if interested in attending or the Monterey COA office 413-528-1443 ext 112
URL:https://montereycoa.org/event/parkinsons-support-group-2/2027-07-01/
LOCATION:Monterey Library\, 452 Main Rd\, Monterey\, MA\, 01245\, United States
ATTACH;FMTTYPE=image/webp:https://montereycoa.org/wp-content/uploads/2026/01/montereylibrary-e1767878473791.webp
END:VEVENT
BEGIN:VEVENT
DTSTART;TZID=America/New_York:20270701T140000
DTEND;TZID=America/New_York:20270701T160000
DTSTAMP:20260420T231456
CREATED:20251202T165119Z
LAST-MODIFIED:20251205T173218Z
UID:10001128-1814450400-1814457600@montereycoa.org
SUMMARY:Thursday Mahjong
DESCRIPTION:
URL:https://montereycoa.org/event/561/2027-07-01/
LOCATION:Monterey Community Center\, 468 Main Rd\, Monterey\, MA\, 01245\, United States
ATTACH;FMTTYPE=image/png:https://montereycoa.org/wp-content/uploads/2025/11/American-MahJong-Maureen-Banner.png
END:VEVENT
BEGIN:VEVENT
DTSTART;TZID=America/New_York:20270702T130000
DTEND;TZID=America/New_York:20270702T160000
DTSTAMP:20260420T231456
CREATED:20251202T162152Z
LAST-MODIFIED:20251217T211339Z
UID:10000345-1814533200-1814544000@montereycoa.org
SUMMARY:Friday Bridge
DESCRIPTION:
URL:https://montereycoa.org/event/bridge-at-the-monterey-community-center-2/2027-07-02/
LOCATION:Monterey Community Center\, 468 Main Rd\, Monterey\, MA\, 01245\, United States
ATTACH;FMTTYPE=image/jpeg:https://montereycoa.org/wp-content/uploads/2025/12/IMG_0164-e1766006012993.jpg
END:VEVENT
BEGIN:VEVENT
DTSTART;TZID=America/New_York:20270706T130000
DTEND;TZID=America/New_York:20270706T160000
DTSTAMP:20260420T231456
CREATED:20251202T161305Z
LAST-MODIFIED:20251205T172638Z
UID:10000085-1814878800-1814889600@montereycoa.org
SUMMARY:Tuesday Bridge
DESCRIPTION:
URL:https://montereycoa.org/event/bridge-at-the-monterey-community-center/2027-07-06/
LOCATION:Monterey Community Center\, 468 Main Rd\, Monterey\, MA\, 01245\, United States
ATTACH;FMTTYPE=image/webp:https://montereycoa.org/wp-content/uploads/2025/11/bridge-cards-600px.webp
END:VEVENT
BEGIN:VEVENT
DTSTART;TZID=America/New_York:20270706T190000
DTEND;TZID=America/New_York:20270706T210000
DTSTAMP:20260420T231456
CREATED:20251202T164719Z
LAST-MODIFIED:20251217T211048Z
UID:10000607-1814900400-1814907600@montereycoa.org
SUMMARY:Tuesday Mahjong
DESCRIPTION:
URL:https://montereycoa.org/event/mahjong/2027-07-06/
LOCATION:Monterey Community Center\, 468 Main Rd\, Monterey\, MA\, 01245\, United States
ATTACH;FMTTYPE=image/jpeg:https://montereycoa.org/wp-content/uploads/2025/12/IMG_5280-e1766005829765.jpg
END:VEVENT
BEGIN:VEVENT
DTSTART;TZID=America/New_York:20270707T100000
DTEND;TZID=America/New_York:20270707T110000
DTSTAMP:20260420T231456
CREATED:20251219T165837Z
LAST-MODIFIED:20251219T165837Z
UID:10001398-1814954400-1814958000@montereycoa.org
SUMMARY:Tai Chi with David Crowe
DESCRIPTION:Wednesdays\, 10:00 AM – 11:00 AM at the Community Center. \nAccepting new attendees with Tai Chi experience. The cost $8 per class or $30 per month
URL:https://montereycoa.org/event/tai-chi-with-david-crowe/2027-07-07/
LOCATION:Monterey Community Center\, 468 Main Rd\, Monterey\, MA\, 01245\, United States
ATTACH;FMTTYPE=image/jpeg:https://montereycoa.org/wp-content/uploads/2025/12/tai-chi-e1766162640974.jpg
END:VEVENT
BEGIN:VEVENT
DTSTART;TZID=America/New_York:20270708T090000
DTEND;TZID=America/New_York:20270708T100000
DTSTAMP:20260420T231456
CREATED:20251202T165314Z
LAST-MODIFIED:20251231T142627Z
UID:10000869-1815037200-1815040800@montereycoa.org
SUMMARY:Yoga with Ben Corbett
DESCRIPTION:
URL:https://montereycoa.org/event/yoga-with-ben-corbett/2027-07-08/
LOCATION:Monterey Community Center\, 468 Main Rd\, Monterey\, MA\, 01245\, United States
ATTACH;FMTTYPE=image/jpeg:https://montereycoa.org/wp-content/uploads/2025/12/IMG_0918-1-e1767191052124.jpg
END:VEVENT
BEGIN:VEVENT
DTSTART;TZID=America/New_York:20270708T140000
DTEND;TZID=America/New_York:20270708T160000
DTSTAMP:20260420T231456
CREATED:20251202T165119Z
LAST-MODIFIED:20251205T173218Z
UID:10001129-1815055200-1815062400@montereycoa.org
SUMMARY:Thursday Mahjong
DESCRIPTION:
URL:https://montereycoa.org/event/561/2027-07-08/
LOCATION:Monterey Community Center\, 468 Main Rd\, Monterey\, MA\, 01245\, United States
ATTACH;FMTTYPE=image/png:https://montereycoa.org/wp-content/uploads/2025/11/American-MahJong-Maureen-Banner.png
END:VEVENT
BEGIN:VEVENT
DTSTART;TZID=America/New_York:20270709T130000
DTEND;TZID=America/New_York:20270709T160000
DTSTAMP:20260420T231456
CREATED:20251202T162152Z
LAST-MODIFIED:20251217T211339Z
UID:10000346-1815138000-1815148800@montereycoa.org
SUMMARY:Friday Bridge
DESCRIPTION:
URL:https://montereycoa.org/event/bridge-at-the-monterey-community-center-2/2027-07-09/
LOCATION:Monterey Community Center\, 468 Main Rd\, Monterey\, MA\, 01245\, United States
ATTACH;FMTTYPE=image/jpeg:https://montereycoa.org/wp-content/uploads/2025/12/IMG_0164-e1766006012993.jpg
END:VEVENT
BEGIN:VEVENT
DTSTART;TZID=America/New_York:20270713T130000
DTEND;TZID=America/New_York:20270713T160000
DTSTAMP:20260420T231456
CREATED:20251202T161305Z
LAST-MODIFIED:20251205T172638Z
UID:10000086-1815483600-1815494400@montereycoa.org
SUMMARY:Tuesday Bridge
DESCRIPTION:
URL:https://montereycoa.org/event/bridge-at-the-monterey-community-center/2027-07-13/
LOCATION:Monterey Community Center\, 468 Main Rd\, Monterey\, MA\, 01245\, United States
ATTACH;FMTTYPE=image/webp:https://montereycoa.org/wp-content/uploads/2025/11/bridge-cards-600px.webp
END:VEVENT
BEGIN:VEVENT
DTSTART;TZID=America/New_York:20270713T190000
DTEND;TZID=America/New_York:20270713T210000
DTSTAMP:20260420T231456
CREATED:20251202T164719Z
LAST-MODIFIED:20251217T211048Z
UID:10000608-1815505200-1815512400@montereycoa.org
SUMMARY:Tuesday Mahjong
DESCRIPTION:
URL:https://montereycoa.org/event/mahjong/2027-07-13/
LOCATION:Monterey Community Center\, 468 Main Rd\, Monterey\, MA\, 01245\, United States
ATTACH;FMTTYPE=image/jpeg:https://montereycoa.org/wp-content/uploads/2025/12/IMG_5280-e1766005829765.jpg
END:VEVENT
BEGIN:VEVENT
DTSTART;TZID=America/New_York:20270714T100000
DTEND;TZID=America/New_York:20270714T110000
DTSTAMP:20260420T231456
CREATED:20251219T165837Z
LAST-MODIFIED:20251219T165837Z
UID:10001399-1815559200-1815562800@montereycoa.org
SUMMARY:Tai Chi with David Crowe
DESCRIPTION:Wednesdays\, 10:00 AM – 11:00 AM at the Community Center. \nAccepting new attendees with Tai Chi experience. The cost $8 per class or $30 per month
URL:https://montereycoa.org/event/tai-chi-with-david-crowe/2027-07-14/
LOCATION:Monterey Community Center\, 468 Main Rd\, Monterey\, MA\, 01245\, United States
ATTACH;FMTTYPE=image/jpeg:https://montereycoa.org/wp-content/uploads/2025/12/tai-chi-e1766162640974.jpg
END:VEVENT
BEGIN:VEVENT
DTSTART;TZID=America/New_York:20270715T090000
DTEND;TZID=America/New_York:20270715T100000
DTSTAMP:20260420T231456
CREATED:20251202T165314Z
LAST-MODIFIED:20251231T142627Z
UID:10000870-1815642000-1815645600@montereycoa.org
SUMMARY:Yoga with Ben Corbett
DESCRIPTION:
URL:https://montereycoa.org/event/yoga-with-ben-corbett/2027-07-15/
LOCATION:Monterey Community Center\, 468 Main Rd\, Monterey\, MA\, 01245\, United States
ATTACH;FMTTYPE=image/jpeg:https://montereycoa.org/wp-content/uploads/2025/12/IMG_0918-1-e1767191052124.jpg
END:VEVENT
BEGIN:VEVENT
DTSTART;TZID=America/New_York:20270715T110000
DTEND;TZID=America/New_York:20270715T130000
DTSTAMP:20260420T231456
CREATED:20260114T133153Z
LAST-MODIFIED:20260114T133153Z
UID:10001848-1815649200-1815656400@montereycoa.org
SUMMARY:Open Art Studio With Beth Hoffman
DESCRIPTION:Last 2 Thursdays each month 11:00 AM – 1:00 pm Come and paint or draw in the company of other artists. A still life provides inspiration or draw from your own imagination. Anything goes! Please bring your own supplies. Coffee and a snack are provided. Please text or call Beth Hoffman to RSVP or if you have any questions: 201.463.9543
URL:https://montereycoa.org/event/open-art-studio-with-beth-hoffman-4/2027-07-15/
LOCATION:MA
ATTACH;FMTTYPE=image/jpeg:https://montereycoa.org/wp-content/uploads/2025/12/openartstudio-e1766162275793.jpg
END:VEVENT
BEGIN:VEVENT
DTSTART;TZID=America/New_York:20270715T140000
DTEND;TZID=America/New_York:20270715T160000
DTSTAMP:20260420T231456
CREATED:20251202T165119Z
LAST-MODIFIED:20251205T173218Z
UID:10001130-1815660000-1815667200@montereycoa.org
SUMMARY:Thursday Mahjong
DESCRIPTION:
URL:https://montereycoa.org/event/561/2027-07-15/
LOCATION:Monterey Community Center\, 468 Main Rd\, Monterey\, MA\, 01245\, United States
ATTACH;FMTTYPE=image/png:https://montereycoa.org/wp-content/uploads/2025/11/American-MahJong-Maureen-Banner.png
END:VEVENT
BEGIN:VEVENT
DTSTART;TZID=America/New_York:20270716T130000
DTEND;TZID=America/New_York:20270716T160000
DTSTAMP:20260420T231456
CREATED:20251202T162152Z
LAST-MODIFIED:20251217T211339Z
UID:10000347-1815742800-1815753600@montereycoa.org
SUMMARY:Friday Bridge
DESCRIPTION:
URL:https://montereycoa.org/event/bridge-at-the-monterey-community-center-2/2027-07-16/
LOCATION:Monterey Community Center\, 468 Main Rd\, Monterey\, MA\, 01245\, United States
ATTACH;FMTTYPE=image/jpeg:https://montereycoa.org/wp-content/uploads/2025/12/IMG_0164-e1766006012993.jpg
END:VEVENT
BEGIN:VEVENT
DTSTART;TZID=America/New_York:20270720T130000
DTEND;TZID=America/New_York:20270720T160000
DTSTAMP:20260420T231456
CREATED:20251202T161305Z
LAST-MODIFIED:20251205T172638Z
UID:10000087-1816088400-1816099200@montereycoa.org
SUMMARY:Tuesday Bridge
DESCRIPTION:
URL:https://montereycoa.org/event/bridge-at-the-monterey-community-center/2027-07-20/
LOCATION:Monterey Community Center\, 468 Main Rd\, Monterey\, MA\, 01245\, United States
ATTACH;FMTTYPE=image/webp:https://montereycoa.org/wp-content/uploads/2025/11/bridge-cards-600px.webp
END:VEVENT
BEGIN:VEVENT
DTSTART;TZID=America/New_York:20270720T190000
DTEND;TZID=America/New_York:20270720T210000
DTSTAMP:20260420T231456
CREATED:20251202T164719Z
LAST-MODIFIED:20251217T211048Z
UID:10000609-1816110000-1816117200@montereycoa.org
SUMMARY:Tuesday Mahjong
DESCRIPTION:
URL:https://montereycoa.org/event/mahjong/2027-07-20/
LOCATION:Monterey Community Center\, 468 Main Rd\, Monterey\, MA\, 01245\, United States
ATTACH;FMTTYPE=image/jpeg:https://montereycoa.org/wp-content/uploads/2025/12/IMG_5280-e1766005829765.jpg
END:VEVENT
BEGIN:VEVENT
DTSTART;TZID=America/New_York:20270721T100000
DTEND;TZID=America/New_York:20270721T110000
DTSTAMP:20260420T231456
CREATED:20251219T165837Z
LAST-MODIFIED:20251219T165837Z
UID:10001400-1816164000-1816167600@montereycoa.org
SUMMARY:Tai Chi with David Crowe
DESCRIPTION:Wednesdays\, 10:00 AM – 11:00 AM at the Community Center. \nAccepting new attendees with Tai Chi experience. The cost $8 per class or $30 per month
URL:https://montereycoa.org/event/tai-chi-with-david-crowe/2027-07-21/
LOCATION:Monterey Community Center\, 468 Main Rd\, Monterey\, MA\, 01245\, United States
ATTACH;FMTTYPE=image/jpeg:https://montereycoa.org/wp-content/uploads/2025/12/tai-chi-e1766162640974.jpg
END:VEVENT
BEGIN:VEVENT
DTSTART;TZID=America/New_York:20270722T090000
DTEND;TZID=America/New_York:20270722T100000
DTSTAMP:20260420T231456
CREATED:20251202T165314Z
LAST-MODIFIED:20251231T142627Z
UID:10000871-1816246800-1816250400@montereycoa.org
SUMMARY:Yoga with Ben Corbett
DESCRIPTION:
URL:https://montereycoa.org/event/yoga-with-ben-corbett/2027-07-22/
LOCATION:Monterey Community Center\, 468 Main Rd\, Monterey\, MA\, 01245\, United States
ATTACH;FMTTYPE=image/jpeg:https://montereycoa.org/wp-content/uploads/2025/12/IMG_0918-1-e1767191052124.jpg
END:VEVENT
BEGIN:VEVENT
DTSTART;TZID=America/New_York:20270722T110000
DTEND;TZID=America/New_York:20270722T130000
DTSTAMP:20260420T231456
CREATED:20251219T170849Z
LAST-MODIFIED:20251219T170849Z
UID:10001717-1816254000-1816261200@montereycoa.org
SUMMARY:Open Art Studio with Beth Hoffman
DESCRIPTION:Last 2 Thursdays each month 11:00 AM – 1:00 pm Come and paint or draw in the company of other artists. A still life provides inspiration or draw from your own imagination. Anything goes! Please bring your own supplies. Coffee and a snack are provided. Please text or call Beth Hoffman to RSVP or if you have any questions: 201.463.9543
URL:https://montereycoa.org/event/open-art-studio-with-beth-hoffman-3/2027-07-22/
LOCATION:Monterey Community Center\, 468 Main Rd\, Monterey\, MA\, 01245\, United States
ATTACH;FMTTYPE=image/jpeg:https://montereycoa.org/wp-content/uploads/2025/12/openartstudio-e1766162275793.jpg
END:VEVENT
BEGIN:VEVENT
DTSTART;TZID=America/New_York:20270722T140000
DTEND;TZID=America/New_York:20270722T160000
DTSTAMP:20260420T231456
CREATED:20251202T165119Z
LAST-MODIFIED:20251205T173218Z
UID:10001131-1816264800-1816272000@montereycoa.org
SUMMARY:Thursday Mahjong
DESCRIPTION:
URL:https://montereycoa.org/event/561/2027-07-22/
LOCATION:Monterey Community Center\, 468 Main Rd\, Monterey\, MA\, 01245\, United States
ATTACH;FMTTYPE=image/png:https://montereycoa.org/wp-content/uploads/2025/11/American-MahJong-Maureen-Banner.png
END:VEVENT
BEGIN:VEVENT
DTSTART;TZID=America/New_York:20270723T130000
DTEND;TZID=America/New_York:20270723T160000
DTSTAMP:20260420T231456
CREATED:20251202T162152Z
LAST-MODIFIED:20251217T211339Z
UID:10000348-1816347600-1816358400@montereycoa.org
SUMMARY:Friday Bridge
DESCRIPTION:
URL:https://montereycoa.org/event/bridge-at-the-monterey-community-center-2/2027-07-23/
LOCATION:Monterey Community Center\, 468 Main Rd\, Monterey\, MA\, 01245\, United States
ATTACH;FMTTYPE=image/jpeg:https://montereycoa.org/wp-content/uploads/2025/12/IMG_0164-e1766006012993.jpg
END:VEVENT
BEGIN:VEVENT
DTSTART;TZID=America/New_York:20270727T130000
DTEND;TZID=America/New_York:20270727T160000
DTSTAMP:20260420T231456
CREATED:20251202T161305Z
LAST-MODIFIED:20251205T172638Z
UID:10000088-1816693200-1816704000@montereycoa.org
SUMMARY:Tuesday Bridge
DESCRIPTION:
URL:https://montereycoa.org/event/bridge-at-the-monterey-community-center/2027-07-27/
LOCATION:Monterey Community Center\, 468 Main Rd\, Monterey\, MA\, 01245\, United States
ATTACH;FMTTYPE=image/webp:https://montereycoa.org/wp-content/uploads/2025/11/bridge-cards-600px.webp
END:VEVENT
BEGIN:VEVENT
DTSTART;TZID=America/New_York:20270727T190000
DTEND;TZID=America/New_York:20270727T210000
DTSTAMP:20260420T231456
CREATED:20251202T164719Z
LAST-MODIFIED:20251217T211048Z
UID:10000610-1816714800-1816722000@montereycoa.org
SUMMARY:Tuesday Mahjong
DESCRIPTION:
URL:https://montereycoa.org/event/mahjong/2027-07-27/
LOCATION:Monterey Community Center\, 468 Main Rd\, Monterey\, MA\, 01245\, United States
ATTACH;FMTTYPE=image/jpeg:https://montereycoa.org/wp-content/uploads/2025/12/IMG_5280-e1766005829765.jpg
END:VEVENT
BEGIN:VEVENT
DTSTART;TZID=America/New_York:20270728T100000
DTEND;TZID=America/New_York:20270728T110000
DTSTAMP:20260420T231456
CREATED:20251219T165837Z
LAST-MODIFIED:20251219T165837Z
UID:10001401-1816768800-1816772400@montereycoa.org
SUMMARY:Tai Chi with David Crowe
DESCRIPTION:Wednesdays\, 10:00 AM – 11:00 AM at the Community Center. \nAccepting new attendees with Tai Chi experience. The cost $8 per class or $30 per month
URL:https://montereycoa.org/event/tai-chi-with-david-crowe/2027-07-28/
LOCATION:Monterey Community Center\, 468 Main Rd\, Monterey\, MA\, 01245\, United States
ATTACH;FMTTYPE=image/jpeg:https://montereycoa.org/wp-content/uploads/2025/12/tai-chi-e1766162640974.jpg
END:VEVENT
BEGIN:VEVENT
DTSTART;TZID=America/New_York:20270729T090000
DTEND;TZID=America/New_York:20270729T100000
DTSTAMP:20260420T231456
CREATED:20251202T165314Z
LAST-MODIFIED:20251231T142627Z
UID:10000872-1816851600-1816855200@montereycoa.org
SUMMARY:Yoga with Ben Corbett
DESCRIPTION:
URL:https://montereycoa.org/event/yoga-with-ben-corbett/2027-07-29/
LOCATION:Monterey Community Center\, 468 Main Rd\, Monterey\, MA\, 01245\, United States
ATTACH;FMTTYPE=image/jpeg:https://montereycoa.org/wp-content/uploads/2025/12/IMG_0918-1-e1767191052124.jpg
END:VEVENT
BEGIN:VEVENT
DTSTART;TZID=America/New_York:20270729T100000
DTEND;TZID=America/New_York:20270729T130000
DTSTAMP:20260420T231456
CREATED:20251219T170341Z
LAST-MODIFIED:20251219T170341Z
UID:10001658-1816855200-1816866000@montereycoa.org
SUMMARY:Open Art Studio With Beth Hoffman
DESCRIPTION:Last 2 Thursdays each month 11:00 AM – 1:00 pm Come and paint or draw in the company of other artists. A still life provides inspiration or draw from your own imagination. Anything goes! Please bring your own supplies. Coffee and a snack are provided. Please text or call Beth Hoffman to RSVP or if you have any questions: 201.463.9543
URL:https://montereycoa.org/event/open-art-studio-with-beth-hoffman-2/2027-07-29/
LOCATION:MA
ATTACH;FMTTYPE=image/jpeg:https://montereycoa.org/wp-content/uploads/2025/12/openartstudio-e1766162275793.jpg
END:VEVENT
END:VCALENDAR