BEGIN:VCALENDAR
VERSION:2.0
PRODID:-//Monterey COA - ECPv6.15.20//NONSGML v1.0//EN
CALSCALE:GREGORIAN
METHOD:PUBLISH
X-ORIGINAL-URL:https://montereycoa.org
X-WR-CALDESC:Events for Monterey COA
REFRESH-INTERVAL;VALUE=DURATION:PT1H
X-Robots-Tag:noindex
X-PUBLISHED-TTL:PT1H
BEGIN:VTIMEZONE
TZID:America/New_York
BEGIN:DAYLIGHT
TZOFFSETFROM:-0500
TZOFFSETTO:-0400
TZNAME:EDT
DTSTART:20260308T070000
END:DAYLIGHT
BEGIN:STANDARD
TZOFFSETFROM:-0400
TZOFFSETTO:-0500
TZNAME:EST
DTSTART:20261101T060000
END:STANDARD
BEGIN:DAYLIGHT
TZOFFSETFROM:-0500
TZOFFSETTO:-0400
TZNAME:EDT
DTSTART:20270314T070000
END:DAYLIGHT
BEGIN:STANDARD
TZOFFSETFROM:-0400
TZOFFSETTO:-0500
TZNAME:EST
DTSTART:20271107T060000
END:STANDARD
BEGIN:DAYLIGHT
TZOFFSETFROM:-0500
TZOFFSETTO:-0400
TZNAME:EDT
DTSTART:20280312T070000
END:DAYLIGHT
BEGIN:STANDARD
TZOFFSETFROM:-0400
TZOFFSETTO:-0500
TZNAME:EST
DTSTART:20281105T060000
END:STANDARD
END:VTIMEZONE
BEGIN:VEVENT
DTSTART;TZID=America/New_York:20270723T130000
DTEND;TZID=America/New_York:20270723T160000
DTSTAMP:20260420T120859
CREATED:20251202T162152Z
LAST-MODIFIED:20251217T211339Z
UID:10000348-1816347600-1816358400@montereycoa.org
SUMMARY:Friday Bridge
DESCRIPTION:
URL:https://montereycoa.org/event/bridge-at-the-monterey-community-center-2/2027-07-23/
LOCATION:Monterey Community Center\, 468 Main Rd\, Monterey\, MA\, 01245\, United States
ATTACH;FMTTYPE=image/jpeg:https://montereycoa.org/wp-content/uploads/2025/12/IMG_0164-e1766006012993.jpg
END:VEVENT
BEGIN:VEVENT
DTSTART;TZID=America/New_York:20270727T130000
DTEND;TZID=America/New_York:20270727T160000
DTSTAMP:20260420T120859
CREATED:20251202T161305Z
LAST-MODIFIED:20251205T172638Z
UID:10000088-1816693200-1816704000@montereycoa.org
SUMMARY:Tuesday Bridge
DESCRIPTION:
URL:https://montereycoa.org/event/bridge-at-the-monterey-community-center/2027-07-27/
LOCATION:Monterey Community Center\, 468 Main Rd\, Monterey\, MA\, 01245\, United States
ATTACH;FMTTYPE=image/webp:https://montereycoa.org/wp-content/uploads/2025/11/bridge-cards-600px.webp
END:VEVENT
BEGIN:VEVENT
DTSTART;TZID=America/New_York:20270727T190000
DTEND;TZID=America/New_York:20270727T210000
DTSTAMP:20260420T120859
CREATED:20251202T164719Z
LAST-MODIFIED:20251217T211048Z
UID:10000610-1816714800-1816722000@montereycoa.org
SUMMARY:Tuesday Mahjong
DESCRIPTION:
URL:https://montereycoa.org/event/mahjong/2027-07-27/
LOCATION:Monterey Community Center\, 468 Main Rd\, Monterey\, MA\, 01245\, United States
ATTACH;FMTTYPE=image/jpeg:https://montereycoa.org/wp-content/uploads/2025/12/IMG_5280-e1766005829765.jpg
END:VEVENT
BEGIN:VEVENT
DTSTART;TZID=America/New_York:20270728T100000
DTEND;TZID=America/New_York:20270728T110000
DTSTAMP:20260420T120859
CREATED:20251219T165837Z
LAST-MODIFIED:20251219T165837Z
UID:10001401-1816768800-1816772400@montereycoa.org
SUMMARY:Tai Chi with David Crowe
DESCRIPTION:Wednesdays\, 10:00 AM – 11:00 AM at the Community Center. \nAccepting new attendees with Tai Chi experience. The cost $8 per class or $30 per month
URL:https://montereycoa.org/event/tai-chi-with-david-crowe/2027-07-28/
LOCATION:Monterey Community Center\, 468 Main Rd\, Monterey\, MA\, 01245\, United States
ATTACH;FMTTYPE=image/jpeg:https://montereycoa.org/wp-content/uploads/2025/12/tai-chi-e1766162640974.jpg
END:VEVENT
BEGIN:VEVENT
DTSTART;TZID=America/New_York:20270729T090000
DTEND;TZID=America/New_York:20270729T100000
DTSTAMP:20260420T120859
CREATED:20251202T165314Z
LAST-MODIFIED:20251231T142627Z
UID:10000872-1816851600-1816855200@montereycoa.org
SUMMARY:Yoga with Ben Corbett
DESCRIPTION:
URL:https://montereycoa.org/event/yoga-with-ben-corbett/2027-07-29/
LOCATION:Monterey Community Center\, 468 Main Rd\, Monterey\, MA\, 01245\, United States
ATTACH;FMTTYPE=image/jpeg:https://montereycoa.org/wp-content/uploads/2025/12/IMG_0918-1-e1767191052124.jpg
END:VEVENT
BEGIN:VEVENT
DTSTART;TZID=America/New_York:20270729T100000
DTEND;TZID=America/New_York:20270729T130000
DTSTAMP:20260420T120859
CREATED:20251219T170341Z
LAST-MODIFIED:20251219T170341Z
UID:10001658-1816855200-1816866000@montereycoa.org
SUMMARY:Open Art Studio With Beth Hoffman
DESCRIPTION:Last 2 Thursdays each month 11:00 AM – 1:00 pm Come and paint or draw in the company of other artists. A still life provides inspiration or draw from your own imagination. Anything goes! Please bring your own supplies. Coffee and a snack are provided. Please text or call Beth Hoffman to RSVP or if you have any questions: 201.463.9543
URL:https://montereycoa.org/event/open-art-studio-with-beth-hoffman-2/2027-07-29/
LOCATION:MA
ATTACH;FMTTYPE=image/jpeg:https://montereycoa.org/wp-content/uploads/2025/12/openartstudio-e1766162275793.jpg
END:VEVENT
BEGIN:VEVENT
DTSTART;TZID=America/New_York:20270729T140000
DTEND;TZID=America/New_York:20270729T160000
DTSTAMP:20260420T120859
CREATED:20251202T165119Z
LAST-MODIFIED:20251205T173218Z
UID:10001132-1816869600-1816876800@montereycoa.org
SUMMARY:Thursday Mahjong
DESCRIPTION:
URL:https://montereycoa.org/event/561/2027-07-29/
LOCATION:Monterey Community Center\, 468 Main Rd\, Monterey\, MA\, 01245\, United States
ATTACH;FMTTYPE=image/png:https://montereycoa.org/wp-content/uploads/2025/11/American-MahJong-Maureen-Banner.png
END:VEVENT
BEGIN:VEVENT
DTSTART;TZID=America/New_York:20270730T130000
DTEND;TZID=America/New_York:20270730T160000
DTSTAMP:20260420T120859
CREATED:20251202T162152Z
LAST-MODIFIED:20251217T211339Z
UID:10000349-1816952400-1816963200@montereycoa.org
SUMMARY:Friday Bridge
DESCRIPTION:
URL:https://montereycoa.org/event/bridge-at-the-monterey-community-center-2/2027-07-30/
LOCATION:Monterey Community Center\, 468 Main Rd\, Monterey\, MA\, 01245\, United States
ATTACH;FMTTYPE=image/jpeg:https://montereycoa.org/wp-content/uploads/2025/12/IMG_0164-e1766006012993.jpg
END:VEVENT
BEGIN:VEVENT
DTSTART;TZID=America/New_York:20270803T130000
DTEND;TZID=America/New_York:20270803T160000
DTSTAMP:20260420T120859
CREATED:20251202T161305Z
LAST-MODIFIED:20251205T172638Z
UID:10000089-1817298000-1817308800@montereycoa.org
SUMMARY:Tuesday Bridge
DESCRIPTION:
URL:https://montereycoa.org/event/bridge-at-the-monterey-community-center/2027-08-03/
LOCATION:Monterey Community Center\, 468 Main Rd\, Monterey\, MA\, 01245\, United States
ATTACH;FMTTYPE=image/webp:https://montereycoa.org/wp-content/uploads/2025/11/bridge-cards-600px.webp
END:VEVENT
BEGIN:VEVENT
DTSTART;TZID=America/New_York:20270803T190000
DTEND;TZID=America/New_York:20270803T210000
DTSTAMP:20260420T120859
CREATED:20251202T164719Z
LAST-MODIFIED:20251217T211048Z
UID:10000611-1817319600-1817326800@montereycoa.org
SUMMARY:Tuesday Mahjong
DESCRIPTION:
URL:https://montereycoa.org/event/mahjong/2027-08-03/
LOCATION:Monterey Community Center\, 468 Main Rd\, Monterey\, MA\, 01245\, United States
ATTACH;FMTTYPE=image/jpeg:https://montereycoa.org/wp-content/uploads/2025/12/IMG_5280-e1766005829765.jpg
END:VEVENT
BEGIN:VEVENT
DTSTART;TZID=America/New_York:20270804T100000
DTEND;TZID=America/New_York:20270804T110000
DTSTAMP:20260420T120859
CREATED:20251219T165837Z
LAST-MODIFIED:20251219T165837Z
UID:10001402-1817373600-1817377200@montereycoa.org
SUMMARY:Tai Chi with David Crowe
DESCRIPTION:Wednesdays\, 10:00 AM – 11:00 AM at the Community Center. \nAccepting new attendees with Tai Chi experience. The cost $8 per class or $30 per month
URL:https://montereycoa.org/event/tai-chi-with-david-crowe/2027-08-04/
LOCATION:Monterey Community Center\, 468 Main Rd\, Monterey\, MA\, 01245\, United States
ATTACH;FMTTYPE=image/jpeg:https://montereycoa.org/wp-content/uploads/2025/12/tai-chi-e1766162640974.jpg
END:VEVENT
BEGIN:VEVENT
DTSTART;TZID=America/New_York:20270805T090000
DTEND;TZID=America/New_York:20270805T100000
DTSTAMP:20260420T120859
CREATED:20251202T165314Z
LAST-MODIFIED:20251231T142627Z
UID:10000873-1817456400-1817460000@montereycoa.org
SUMMARY:Yoga with Ben Corbett
DESCRIPTION:
URL:https://montereycoa.org/event/yoga-with-ben-corbett/2027-08-05/
LOCATION:Monterey Community Center\, 468 Main Rd\, Monterey\, MA\, 01245\, United States
ATTACH;FMTTYPE=image/jpeg:https://montereycoa.org/wp-content/uploads/2025/12/IMG_0918-1-e1767191052124.jpg
END:VEVENT
BEGIN:VEVENT
DTSTART;TZID=America/New_York:20270805T140000
DTEND;TZID=America/New_York:20270805T150000
DTSTAMP:20260420T120859
CREATED:20260406T202506Z
LAST-MODIFIED:20260406T202506Z
UID:10001916-1817474400-1817478000@montereycoa.org
SUMMARY:Parkinson's Support Group
DESCRIPTION:Monterey Library  Call Virgil Stucker 828-388-4673 if interested in attending or the Monterey COA office 413-528-1443 ext 112
URL:https://montereycoa.org/event/parkinsons-support-group-2/2027-08-05/
LOCATION:Monterey Library\, 452 Main Rd\, Monterey\, MA\, 01245\, United States
ATTACH;FMTTYPE=image/webp:https://montereycoa.org/wp-content/uploads/2026/01/montereylibrary-e1767878473791.webp
END:VEVENT
BEGIN:VEVENT
DTSTART;TZID=America/New_York:20270805T140000
DTEND;TZID=America/New_York:20270805T160000
DTSTAMP:20260420T120859
CREATED:20251202T165119Z
LAST-MODIFIED:20251205T173218Z
UID:10001133-1817474400-1817481600@montereycoa.org
SUMMARY:Thursday Mahjong
DESCRIPTION:
URL:https://montereycoa.org/event/561/2027-08-05/
LOCATION:Monterey Community Center\, 468 Main Rd\, Monterey\, MA\, 01245\, United States
ATTACH;FMTTYPE=image/png:https://montereycoa.org/wp-content/uploads/2025/11/American-MahJong-Maureen-Banner.png
END:VEVENT
BEGIN:VEVENT
DTSTART;TZID=America/New_York:20270806T130000
DTEND;TZID=America/New_York:20270806T160000
DTSTAMP:20260420T120859
CREATED:20251202T162152Z
LAST-MODIFIED:20251217T211339Z
UID:10000350-1817557200-1817568000@montereycoa.org
SUMMARY:Friday Bridge
DESCRIPTION:
URL:https://montereycoa.org/event/bridge-at-the-monterey-community-center-2/2027-08-06/
LOCATION:Monterey Community Center\, 468 Main Rd\, Monterey\, MA\, 01245\, United States
ATTACH;FMTTYPE=image/jpeg:https://montereycoa.org/wp-content/uploads/2025/12/IMG_0164-e1766006012993.jpg
END:VEVENT
BEGIN:VEVENT
DTSTART;TZID=America/New_York:20270810T130000
DTEND;TZID=America/New_York:20270810T160000
DTSTAMP:20260420T120859
CREATED:20251202T161305Z
LAST-MODIFIED:20251205T172638Z
UID:10000090-1817902800-1817913600@montereycoa.org
SUMMARY:Tuesday Bridge
DESCRIPTION:
URL:https://montereycoa.org/event/bridge-at-the-monterey-community-center/2027-08-10/
LOCATION:Monterey Community Center\, 468 Main Rd\, Monterey\, MA\, 01245\, United States
ATTACH;FMTTYPE=image/webp:https://montereycoa.org/wp-content/uploads/2025/11/bridge-cards-600px.webp
END:VEVENT
BEGIN:VEVENT
DTSTART;TZID=America/New_York:20270810T190000
DTEND;TZID=America/New_York:20270810T210000
DTSTAMP:20260420T120859
CREATED:20251202T164719Z
LAST-MODIFIED:20251217T211048Z
UID:10000612-1817924400-1817931600@montereycoa.org
SUMMARY:Tuesday Mahjong
DESCRIPTION:
URL:https://montereycoa.org/event/mahjong/2027-08-10/
LOCATION:Monterey Community Center\, 468 Main Rd\, Monterey\, MA\, 01245\, United States
ATTACH;FMTTYPE=image/jpeg:https://montereycoa.org/wp-content/uploads/2025/12/IMG_5280-e1766005829765.jpg
END:VEVENT
BEGIN:VEVENT
DTSTART;TZID=America/New_York:20270811T100000
DTEND;TZID=America/New_York:20270811T110000
DTSTAMP:20260420T120859
CREATED:20251219T165837Z
LAST-MODIFIED:20251219T165837Z
UID:10001403-1817978400-1817982000@montereycoa.org
SUMMARY:Tai Chi with David Crowe
DESCRIPTION:Wednesdays\, 10:00 AM – 11:00 AM at the Community Center. \nAccepting new attendees with Tai Chi experience. The cost $8 per class or $30 per month
URL:https://montereycoa.org/event/tai-chi-with-david-crowe/2027-08-11/
LOCATION:Monterey Community Center\, 468 Main Rd\, Monterey\, MA\, 01245\, United States
ATTACH;FMTTYPE=image/jpeg:https://montereycoa.org/wp-content/uploads/2025/12/tai-chi-e1766162640974.jpg
END:VEVENT
BEGIN:VEVENT
DTSTART;TZID=America/New_York:20270812T090000
DTEND;TZID=America/New_York:20270812T100000
DTSTAMP:20260420T120859
CREATED:20251202T165314Z
LAST-MODIFIED:20251231T142627Z
UID:10000874-1818061200-1818064800@montereycoa.org
SUMMARY:Yoga with Ben Corbett
DESCRIPTION:
URL:https://montereycoa.org/event/yoga-with-ben-corbett/2027-08-12/
LOCATION:Monterey Community Center\, 468 Main Rd\, Monterey\, MA\, 01245\, United States
ATTACH;FMTTYPE=image/jpeg:https://montereycoa.org/wp-content/uploads/2025/12/IMG_0918-1-e1767191052124.jpg
END:VEVENT
BEGIN:VEVENT
DTSTART;TZID=America/New_York:20270812T140000
DTEND;TZID=America/New_York:20270812T160000
DTSTAMP:20260420T120859
CREATED:20251202T165119Z
LAST-MODIFIED:20251205T173218Z
UID:10001134-1818079200-1818086400@montereycoa.org
SUMMARY:Thursday Mahjong
DESCRIPTION:
URL:https://montereycoa.org/event/561/2027-08-12/
LOCATION:Monterey Community Center\, 468 Main Rd\, Monterey\, MA\, 01245\, United States
ATTACH;FMTTYPE=image/png:https://montereycoa.org/wp-content/uploads/2025/11/American-MahJong-Maureen-Banner.png
END:VEVENT
BEGIN:VEVENT
DTSTART;TZID=America/New_York:20270813T130000
DTEND;TZID=America/New_York:20270813T160000
DTSTAMP:20260420T120859
CREATED:20251202T162152Z
LAST-MODIFIED:20251217T211339Z
UID:10000351-1818162000-1818172800@montereycoa.org
SUMMARY:Friday Bridge
DESCRIPTION:
URL:https://montereycoa.org/event/bridge-at-the-monterey-community-center-2/2027-08-13/
LOCATION:Monterey Community Center\, 468 Main Rd\, Monterey\, MA\, 01245\, United States
ATTACH;FMTTYPE=image/jpeg:https://montereycoa.org/wp-content/uploads/2025/12/IMG_0164-e1766006012993.jpg
END:VEVENT
BEGIN:VEVENT
DTSTART;TZID=America/New_York:20270817T130000
DTEND;TZID=America/New_York:20270817T160000
DTSTAMP:20260420T120859
CREATED:20251202T161305Z
LAST-MODIFIED:20251205T172638Z
UID:10000091-1818507600-1818518400@montereycoa.org
SUMMARY:Tuesday Bridge
DESCRIPTION:
URL:https://montereycoa.org/event/bridge-at-the-monterey-community-center/2027-08-17/
LOCATION:Monterey Community Center\, 468 Main Rd\, Monterey\, MA\, 01245\, United States
ATTACH;FMTTYPE=image/webp:https://montereycoa.org/wp-content/uploads/2025/11/bridge-cards-600px.webp
END:VEVENT
BEGIN:VEVENT
DTSTART;TZID=America/New_York:20270817T190000
DTEND;TZID=America/New_York:20270817T210000
DTSTAMP:20260420T120859
CREATED:20251202T164719Z
LAST-MODIFIED:20251217T211048Z
UID:10000613-1818529200-1818536400@montereycoa.org
SUMMARY:Tuesday Mahjong
DESCRIPTION:
URL:https://montereycoa.org/event/mahjong/2027-08-17/
LOCATION:Monterey Community Center\, 468 Main Rd\, Monterey\, MA\, 01245\, United States
ATTACH;FMTTYPE=image/jpeg:https://montereycoa.org/wp-content/uploads/2025/12/IMG_5280-e1766005829765.jpg
END:VEVENT
BEGIN:VEVENT
DTSTART;TZID=America/New_York:20270818T100000
DTEND;TZID=America/New_York:20270818T110000
DTSTAMP:20260420T120859
CREATED:20251219T165837Z
LAST-MODIFIED:20251219T165837Z
UID:10001404-1818583200-1818586800@montereycoa.org
SUMMARY:Tai Chi with David Crowe
DESCRIPTION:Wednesdays\, 10:00 AM – 11:00 AM at the Community Center. \nAccepting new attendees with Tai Chi experience. The cost $8 per class or $30 per month
URL:https://montereycoa.org/event/tai-chi-with-david-crowe/2027-08-18/
LOCATION:Monterey Community Center\, 468 Main Rd\, Monterey\, MA\, 01245\, United States
ATTACH;FMTTYPE=image/jpeg:https://montereycoa.org/wp-content/uploads/2025/12/tai-chi-e1766162640974.jpg
END:VEVENT
BEGIN:VEVENT
DTSTART;TZID=America/New_York:20270819T090000
DTEND;TZID=America/New_York:20270819T100000
DTSTAMP:20260420T120859
CREATED:20251202T165314Z
LAST-MODIFIED:20251231T142627Z
UID:10000875-1818666000-1818669600@montereycoa.org
SUMMARY:Yoga with Ben Corbett
DESCRIPTION:
URL:https://montereycoa.org/event/yoga-with-ben-corbett/2027-08-19/
LOCATION:Monterey Community Center\, 468 Main Rd\, Monterey\, MA\, 01245\, United States
ATTACH;FMTTYPE=image/jpeg:https://montereycoa.org/wp-content/uploads/2025/12/IMG_0918-1-e1767191052124.jpg
END:VEVENT
BEGIN:VEVENT
DTSTART;TZID=America/New_York:20270819T110000
DTEND;TZID=America/New_York:20270819T130000
DTSTAMP:20260420T120859
CREATED:20260114T133153Z
LAST-MODIFIED:20260114T133153Z
UID:10001849-1818673200-1818680400@montereycoa.org
SUMMARY:Open Art Studio With Beth Hoffman
DESCRIPTION:Last 2 Thursdays each month 11:00 AM – 1:00 pm Come and paint or draw in the company of other artists. A still life provides inspiration or draw from your own imagination. Anything goes! Please bring your own supplies. Coffee and a snack are provided. Please text or call Beth Hoffman to RSVP or if you have any questions: 201.463.9543
URL:https://montereycoa.org/event/open-art-studio-with-beth-hoffman-4/2027-08-19/
LOCATION:MA
ATTACH;FMTTYPE=image/jpeg:https://montereycoa.org/wp-content/uploads/2025/12/openartstudio-e1766162275793.jpg
END:VEVENT
BEGIN:VEVENT
DTSTART;TZID=America/New_York:20270819T140000
DTEND;TZID=America/New_York:20270819T160000
DTSTAMP:20260420T120859
CREATED:20251202T165119Z
LAST-MODIFIED:20251205T173218Z
UID:10001135-1818684000-1818691200@montereycoa.org
SUMMARY:Thursday Mahjong
DESCRIPTION:
URL:https://montereycoa.org/event/561/2027-08-19/
LOCATION:Monterey Community Center\, 468 Main Rd\, Monterey\, MA\, 01245\, United States
ATTACH;FMTTYPE=image/png:https://montereycoa.org/wp-content/uploads/2025/11/American-MahJong-Maureen-Banner.png
END:VEVENT
BEGIN:VEVENT
DTSTART;TZID=America/New_York:20270820T130000
DTEND;TZID=America/New_York:20270820T160000
DTSTAMP:20260420T120859
CREATED:20251202T162152Z
LAST-MODIFIED:20251217T211339Z
UID:10000352-1818766800-1818777600@montereycoa.org
SUMMARY:Friday Bridge
DESCRIPTION:
URL:https://montereycoa.org/event/bridge-at-the-monterey-community-center-2/2027-08-20/
LOCATION:Monterey Community Center\, 468 Main Rd\, Monterey\, MA\, 01245\, United States
ATTACH;FMTTYPE=image/jpeg:https://montereycoa.org/wp-content/uploads/2025/12/IMG_0164-e1766006012993.jpg
END:VEVENT
BEGIN:VEVENT
DTSTART;TZID=America/New_York:20270824T130000
DTEND;TZID=America/New_York:20270824T160000
DTSTAMP:20260420T120859
CREATED:20251202T161305Z
LAST-MODIFIED:20251205T172638Z
UID:10000092-1819112400-1819123200@montereycoa.org
SUMMARY:Tuesday Bridge
DESCRIPTION:
URL:https://montereycoa.org/event/bridge-at-the-monterey-community-center/2027-08-24/
LOCATION:Monterey Community Center\, 468 Main Rd\, Monterey\, MA\, 01245\, United States
ATTACH;FMTTYPE=image/webp:https://montereycoa.org/wp-content/uploads/2025/11/bridge-cards-600px.webp
END:VEVENT
BEGIN:VEVENT
DTSTART;TZID=America/New_York:20270824T190000
DTEND;TZID=America/New_York:20270824T210000
DTSTAMP:20260420T120859
CREATED:20251202T164719Z
LAST-MODIFIED:20251217T211048Z
UID:10000614-1819134000-1819141200@montereycoa.org
SUMMARY:Tuesday Mahjong
DESCRIPTION:
URL:https://montereycoa.org/event/mahjong/2027-08-24/
LOCATION:Monterey Community Center\, 468 Main Rd\, Monterey\, MA\, 01245\, United States
ATTACH;FMTTYPE=image/jpeg:https://montereycoa.org/wp-content/uploads/2025/12/IMG_5280-e1766005829765.jpg
END:VEVENT
END:VCALENDAR